BEGIN:VCALENDAR
VERSION:2.0
PRODID:-//Pasda - ECPv6.15.20//NONSGML v1.0//EN
CALSCALE:GREGORIAN
METHOD:PUBLISH
X-ORIGINAL-URL:https://www.pasda.org.uk
X-WR-CALDESC:Events for Pasda
REFRESH-INTERVAL;VALUE=DURATION:PT1H
X-Robots-Tag:noindex
X-PUBLISHED-TTL:PT1H
BEGIN:VTIMEZONE
TZID:UTC
BEGIN:STANDARD
TZOFFSETFROM:+0000
TZOFFSETTO:+0000
TZNAME:UTC
DTSTART:20150101T000000
END:STANDARD
END:VTIMEZONE
BEGIN:VEVENT
DTSTART;TZID=UTC:20160407T110000
DTEND;TZID=UTC:20160407T140000
DTSTAMP:20260426T035607
CREATED:20160325T202012Z
LAST-MODIFIED:20160325T202012Z
UID:1424-1460026800-1460037600@www.pasda.org.uk
SUMMARY:Community Garden Group
DESCRIPTION:
URL:https://www.pasda.org.uk/index.php/event/community-garden-group/
LOCATION:Craigie’s Farm\, South Queensferry\, EH30 9AR
CATEGORIES:Community Garden Group
END:VEVENT
BEGIN:VEVENT
DTSTART;TZID=UTC:20160407T110000
DTEND;TZID=UTC:20160407T140000
DTSTAMP:20260426T035607
CREATED:20160325T202012Z
LAST-MODIFIED:20160325T202012Z
UID:8487-1460026800-1460037600@www.pasda.org.uk
SUMMARY:Community Garden Group
DESCRIPTION:
URL:https://www.pasda.org.uk/index.php/event/community-garden-group-23/
LOCATION:Craigie’s Farm\, South Queensferry\, EH30 9AR
CATEGORIES:Community Garden Group
END:VEVENT
BEGIN:VEVENT
DTSTART;TZID=UTC:20160407T180000
DTEND;TZID=UTC:20160407T203000
DTSTAMP:20260426T035607
CREATED:20160325T201710Z
LAST-MODIFIED:20160325T201710Z
UID:1422-1460052000-1460061000@www.pasda.org.uk
SUMMARY:Partner & Spouses Group
DESCRIPTION:
URL:https://www.pasda.org.uk/index.php/event/partner-spouses-group-17/
LOCATION:Pasda\, Norton Park\, 57 Albion Road\, Edinburgh\, EH7 5QY\, United Kingdom
CATEGORIES:Partner & Spouses Group
END:VEVENT
BEGIN:VEVENT
DTSTART;TZID=UTC:20160407T180000
DTEND;TZID=UTC:20160407T203000
DTSTAMP:20260426T035607
CREATED:20160325T201710Z
LAST-MODIFIED:20160325T201710Z
UID:8486-1460052000-1460061000@www.pasda.org.uk
SUMMARY:Partner & Spouses Group
DESCRIPTION:
URL:https://www.pasda.org.uk/index.php/event/partner-spouses-group-17-2/
LOCATION:Pasda\, Norton Park\, 57 Albion Road\, Edinburgh\, EH7 5QY\, United Kingdom
CATEGORIES:Partner & Spouses Group
END:VEVENT
END:VCALENDAR