BEGIN:VCALENDAR
VERSION:2.0
PRODID:-//Pasda - ECPv6.15.20//NONSGML v1.0//EN
CALSCALE:GREGORIAN
METHOD:PUBLISH
X-ORIGINAL-URL:https://www.pasda.org.uk
X-WR-CALDESC:Events for Pasda
REFRESH-INTERVAL;VALUE=DURATION:PT1H
X-Robots-Tag:noindex
X-PUBLISHED-TTL:PT1H
BEGIN:VTIMEZONE
TZID:UTC
BEGIN:STANDARD
TZOFFSETFROM:+0000
TZOFFSETTO:+0000
TZNAME:UTC
DTSTART:20150101T000000
END:STANDARD
END:VTIMEZONE
BEGIN:VEVENT
DTSTART;TZID=UTC:20160413T190000
DTEND;TZID=UTC:20160413T210000
DTSTAMP:20260426T035618
CREATED:20160325T202609Z
LAST-MODIFIED:20160325T202609Z
UID:1429-1460574000-1460581200@www.pasda.org.uk
SUMMARY:Carer Information Meeting
DESCRIPTION:This month\, Dr Ken Aitken\, an experienced psychologist and author with a special interest in autism\, will speak to the group about sleep patterns.
URL:https://www.pasda.org.uk/index.php/event/carer-information-meeting-9/
LOCATION:Number 6\, 24 Hill Street\, Edinburgh\, EH2 3JZ\, United Kingdom
CATEGORIES:Carer Information Meeting
END:VEVENT
BEGIN:VEVENT
DTSTART;TZID=UTC:20160413T190000
DTEND;TZID=UTC:20160413T210000
DTSTAMP:20260426T035618
CREATED:20160325T202609Z
LAST-MODIFIED:20160325T202609Z
UID:8492-1460574000-1460581200@www.pasda.org.uk
SUMMARY:Carer Information Meeting
DESCRIPTION:This month\, Dr Ken Aitken\, an experienced psychologist and author with a special interest in autism\, will speak to the group about sleep patterns.
URL:https://www.pasda.org.uk/index.php/event/carer-information-meeting-9-2/
LOCATION:Number 6\, 24 Hill Street\, Edinburgh\, EH2 3JZ\, United Kingdom
CATEGORIES:Carer Information Meeting
END:VEVENT
END:VCALENDAR