BEGIN:VCALENDAR
VERSION:2.0
PRODID:-//Pasda - ECPv6.15.20//NONSGML v1.0//EN
CALSCALE:GREGORIAN
METHOD:PUBLISH
X-ORIGINAL-URL:https://www.pasda.org.uk
X-WR-CALDESC:Events for Pasda
REFRESH-INTERVAL;VALUE=DURATION:PT1H
X-Robots-Tag:noindex
X-PUBLISHED-TTL:PT1H
BEGIN:VTIMEZONE
TZID:UTC
BEGIN:STANDARD
TZOFFSETFROM:+0000
TZOFFSETTO:+0000
TZNAME:UTC
DTSTART:20150101T000000
END:STANDARD
END:VTIMEZONE
BEGIN:VEVENT
DTSTART;TZID=UTC:20160428T100000
DTEND;TZID=UTC:20160428T160000
DTSTAMP:20260426T023610
CREATED:20160325T202252Z
LAST-MODIFIED:20160325T202252Z
UID:1427-1461837600-1461859200@www.pasda.org.uk
SUMMARY:Community Garden Group
DESCRIPTION:Louise will not be at Craigie’s this week\, as she and some of the carers are attending a course at the Botanics. However\, the garden will be open as normal to anyone who wishes to attend (lifts from the public transport links not available for this week only). \nIf anyone who is familiar with the garden can help with watering the plots and the polytunnel this week\, please contact Louise\, louise.middleton@pasda.org.uk.
URL:https://www.pasda.org.uk/index.php/event/community-garden-group-13/
LOCATION:Craigie’s Farm\, South Queensferry\, EH30 9AR
CATEGORIES:Community Garden Group
END:VEVENT
BEGIN:VEVENT
DTSTART;TZID=UTC:20160428T100000
DTEND;TZID=UTC:20160428T160000
DTSTAMP:20260426T023611
CREATED:20160325T202252Z
LAST-MODIFIED:20160325T202252Z
UID:8490-1461837600-1461859200@www.pasda.org.uk
SUMMARY:Community Garden Group
DESCRIPTION:Louise will not be at Craigie’s this week\, as she and some of the carers are attending a course at the Botanics. However\, the garden will be open as normal to anyone who wishes to attend (lifts from the public transport links not available for this week only). \nIf anyone who is familiar with the garden can help with watering the plots and the polytunnel this week\, please contact Louise\, louise.middleton@pasda.org.uk.
URL:https://www.pasda.org.uk/index.php/event/community-garden-group-13-2/
LOCATION:Craigie’s Farm\, South Queensferry\, EH30 9AR
CATEGORIES:Community Garden Group
END:VEVENT
BEGIN:VEVENT
DTSTART;TZID=UTC:20160428T183000
DTEND;TZID=UTC:20160428T203000
DTSTAMP:20260426T023611
CREATED:20160325T203645Z
LAST-MODIFIED:20160325T203645Z
UID:1435-1461868200-1461875400@www.pasda.org.uk
SUMMARY:East Lothian Carers Group
DESCRIPTION:
URL:https://www.pasda.org.uk/index.php/event/east-lothian-carers-group-18/
LOCATION:Carers of East Lothian\, 94 Musselburgh High Street\, Musselburgh\, EH21 7EA\, United Kingdom
CATEGORIES:East Lothian Carers Group
END:VEVENT
BEGIN:VEVENT
DTSTART;TZID=UTC:20160428T183000
DTEND;TZID=UTC:20160428T203000
DTSTAMP:20260426T023611
CREATED:20160325T203645Z
LAST-MODIFIED:20160325T203645Z
UID:8496-1461868200-1461875400@www.pasda.org.uk
SUMMARY:East Lothian Carers Group
DESCRIPTION:
URL:https://www.pasda.org.uk/index.php/event/east-lothian-carers-group-18-2/
LOCATION:Carers of East Lothian\, 94 Musselburgh High Street\, Musselburgh\, EH21 7EA\, United Kingdom
CATEGORIES:East Lothian Carers Group
END:VEVENT
END:VCALENDAR