BEGIN:VCALENDAR
VERSION:2.0
PRODID:-//Pasda - ECPv6.15.20//NONSGML v1.0//EN
CALSCALE:GREGORIAN
METHOD:PUBLISH
X-WR-CALNAME:Pasda
X-ORIGINAL-URL:https://www.pasda.org.uk
X-WR-CALDESC:Events for Pasda
REFRESH-INTERVAL;VALUE=DURATION:PT1H
X-Robots-Tag:noindex
X-PUBLISHED-TTL:PT1H
BEGIN:VTIMEZONE
TZID:UTC
BEGIN:STANDARD
TZOFFSETFROM:+0000
TZOFFSETTO:+0000
TZNAME:UTC
DTSTART:20150101T000000
END:STANDARD
END:VTIMEZONE
BEGIN:VEVENT
DTSTART;TZID=UTC:20160525T130000
DTEND;TZID=UTC:20160525T150000
DTSTAMP:20260426T023602
CREATED:20160427T121316Z
LAST-MODIFIED:20160427T121316Z
UID:1486-1464181200-1464188400@www.pasda.org.uk
SUMMARY:Complementary Therapy Workshop
DESCRIPTION:
URL:https://www.pasda.org.uk/index.php/event/complementary-therapy-workshop/
LOCATION:Pasda\, Norton Park\, 57 Albion Road\, Edinburgh\, EH7 5QY\, United Kingdom
CATEGORIES:Workshops
END:VEVENT
BEGIN:VEVENT
DTSTART;TZID=UTC:20160525T130000
DTEND;TZID=UTC:20160525T150000
DTSTAMP:20260426T023602
CREATED:20160427T121316Z
LAST-MODIFIED:20160427T121316Z
UID:8506-1464181200-1464188400@www.pasda.org.uk
SUMMARY:Complementary Therapy Workshop
DESCRIPTION:
URL:https://www.pasda.org.uk/index.php/event/complementary-therapy-workshop-2/
LOCATION:Pasda\, Norton Park\, 57 Albion Road\, Edinburgh\, EH7 5QY\, United Kingdom
CATEGORIES:Workshops
END:VEVENT
END:VCALENDAR