BEGIN:VCALENDAR
VERSION:2.0
PRODID:-//Pasda - ECPv6.15.20//NONSGML v1.0//EN
CALSCALE:GREGORIAN
METHOD:PUBLISH
X-ORIGINAL-URL:https://www.pasda.org.uk
X-WR-CALDESC:Events for Pasda
REFRESH-INTERVAL;VALUE=DURATION:PT1H
X-Robots-Tag:noindex
X-PUBLISHED-TTL:PT1H
BEGIN:VTIMEZONE
TZID:UTC
BEGIN:STANDARD
TZOFFSETFROM:+0000
TZOFFSETTO:+0000
TZNAME:UTC
DTSTART:20150101T000000
END:STANDARD
END:VTIMEZONE
BEGIN:VEVENT
DTSTART;TZID=UTC:20160602T100000
DTEND;TZID=UTC:20160602T160000
DTSTAMP:20260426T011412
CREATED:20160516T113948Z
LAST-MODIFIED:20160516T113948Z
UID:1503-1464861600-1464883200@www.pasda.org.uk
SUMMARY:Community Garden Group
DESCRIPTION:
URL:https://www.pasda.org.uk/index.php/event/community-garden-group-18/
LOCATION:Craigie’s Farm\, South Queensferry\, EH30 9AR
CATEGORIES:Community Garden Group
END:VEVENT
BEGIN:VEVENT
DTSTART;TZID=UTC:20160602T100000
DTEND;TZID=UTC:20160602T160000
DTSTAMP:20260426T011412
CREATED:20160516T113948Z
LAST-MODIFIED:20160516T113948Z
UID:8510-1464861600-1464883200@www.pasda.org.uk
SUMMARY:Community Garden Group
DESCRIPTION:
URL:https://www.pasda.org.uk/index.php/event/community-garden-group-18-2/
LOCATION:Craigie’s Farm\, South Queensferry\, EH30 9AR
CATEGORIES:Community Garden Group
END:VEVENT
BEGIN:VEVENT
DTSTART;TZID=UTC:20160602T180000
DTEND;TZID=UTC:20160602T203000
DTSTAMP:20260426T011412
CREATED:20160516T113506Z
LAST-MODIFIED:20160516T113506Z
UID:1502-1464890400-1464899400@www.pasda.org.uk
SUMMARY:Partner & Spouses Group
DESCRIPTION:
URL:https://www.pasda.org.uk/index.php/event/partner-spouses-group-19/
LOCATION:Pasda\, Norton Park\, 57 Albion Road\, Edinburgh\, EH7 5QY\, United Kingdom
END:VEVENT
BEGIN:VEVENT
DTSTART;TZID=UTC:20160602T180000
DTEND;TZID=UTC:20160602T203000
DTSTAMP:20260426T011412
CREATED:20160516T113506Z
LAST-MODIFIED:20160516T113506Z
UID:8509-1464890400-1464899400@www.pasda.org.uk
SUMMARY:Partner & Spouses Group
DESCRIPTION:
URL:https://www.pasda.org.uk/index.php/event/partner-spouses-group-19-2/
LOCATION:Pasda\, Norton Park\, 57 Albion Road\, Edinburgh\, EH7 5QY\, United Kingdom
END:VEVENT
END:VCALENDAR