BEGIN:VCALENDAR
VERSION:2.0
PRODID:-//Pasda - ECPv6.15.20//NONSGML v1.0//EN
CALSCALE:GREGORIAN
METHOD:PUBLISH
X-WR-CALNAME:Pasda
X-ORIGINAL-URL:https://www.pasda.org.uk
X-WR-CALDESC:Events for Pasda
REFRESH-INTERVAL;VALUE=DURATION:PT1H
X-Robots-Tag:noindex
X-PUBLISHED-TTL:PT1H
BEGIN:VTIMEZONE
TZID:UTC
BEGIN:STANDARD
TZOFFSETFROM:+0000
TZOFFSETTO:+0000
TZNAME:UTC
DTSTART:20150101T000000
END:STANDARD
END:VTIMEZONE
BEGIN:VEVENT
DTSTART;TZID=UTC:20160608T190000
DTEND;TZID=UTC:20160608T210000
DTSTAMP:20260426T011354
CREATED:20160427T122137Z
LAST-MODIFIED:20160427T122137Z
UID:1489-1465412400-1465419600@www.pasda.org.uk
SUMMARY:Pasda AGM and Carer Information Meeting
DESCRIPTION:Please note that the Annual General Meeting and this month’s Carer Information meeting will take place at Number 6\, 24 Hill Street. Cathy Steedman from Autism Initiatives will be speaking to the group about their outreach services and support for service users.
URL:https://www.pasda.org.uk/index.php/event/pasda-agm-and-carer-information-meeting/
LOCATION:Number 6\, 24 Hill Street\, Edinburgh\, EH2 3JZ\, United Kingdom
CATEGORIES:Carer Information Meeting
END:VEVENT
BEGIN:VEVENT
DTSTART;TZID=UTC:20160608T190000
DTEND;TZID=UTC:20160608T210000
DTSTAMP:20260426T011354
CREATED:20160427T122137Z
LAST-MODIFIED:20160427T122137Z
UID:8508-1465412400-1465419600@www.pasda.org.uk
SUMMARY:Pasda AGM and Carer Information Meeting
DESCRIPTION:Please note that the Annual General Meeting and this month’s Carer Information meeting will take place at Number 6\, 24 Hill Street. Cathy Steedman from Autism Initiatives will be speaking to the group about their outreach services and support for service users.
URL:https://www.pasda.org.uk/index.php/event/pasda-agm-and-carer-information-meeting-2/
LOCATION:Number 6\, 24 Hill Street\, Edinburgh\, EH2 3JZ\, United Kingdom
CATEGORIES:Carer Information Meeting
END:VEVENT
END:VCALENDAR