BEGIN:VCALENDAR
VERSION:2.0
PRODID:-//Pasda - ECPv6.15.20//NONSGML v1.0//EN
CALSCALE:GREGORIAN
METHOD:PUBLISH
X-WR-CALNAME:Pasda
X-ORIGINAL-URL:https://www.pasda.org.uk
X-WR-CALDESC:Events for Pasda
REFRESH-INTERVAL;VALUE=DURATION:PT1H
X-Robots-Tag:noindex
X-PUBLISHED-TTL:PT1H
BEGIN:VTIMEZONE
TZID:UTC
BEGIN:STANDARD
TZOFFSETFROM:+0000
TZOFFSETTO:+0000
TZNAME:UTC
DTSTART:20150101T000000
END:STANDARD
END:VTIMEZONE
BEGIN:VEVENT
DTSTART;TZID=UTC:20160609T100000
DTEND;TZID=UTC:20160609T160000
DTSTAMP:20260426T011414
CREATED:20160516T114029Z
LAST-MODIFIED:20160516T114029Z
UID:1504-1465466400-1465488000@www.pasda.org.uk
SUMMARY:Community Garden Group
DESCRIPTION:
URL:https://www.pasda.org.uk/index.php/event/community-garden-group-19/
LOCATION:Craigie’s Farm\, South Queensferry\, EH30 9AR
CATEGORIES:Community Garden Group
END:VEVENT
BEGIN:VEVENT
DTSTART;TZID=UTC:20160609T100000
DTEND;TZID=UTC:20160609T160000
DTSTAMP:20260426T011414
CREATED:20160516T114029Z
LAST-MODIFIED:20160516T114029Z
UID:8511-1465466400-1465488000@www.pasda.org.uk
SUMMARY:Community Garden Group
DESCRIPTION:
URL:https://www.pasda.org.uk/index.php/event/community-garden-group-19-2/
LOCATION:Craigie’s Farm\, South Queensferry\, EH30 9AR
CATEGORIES:Community Garden Group
END:VEVENT
END:VCALENDAR