BEGIN:VCALENDAR
VERSION:2.0
PRODID:-//Pasda - ECPv6.15.20//NONSGML v1.0//EN
CALSCALE:GREGORIAN
METHOD:PUBLISH
X-WR-CALNAME:Pasda
X-ORIGINAL-URL:https://www.pasda.org.uk
X-WR-CALDESC:Events for Pasda
REFRESH-INTERVAL;VALUE=DURATION:PT1H
X-Robots-Tag:noindex
X-PUBLISHED-TTL:PT1H
BEGIN:VTIMEZONE
TZID:UTC
BEGIN:STANDARD
TZOFFSETFROM:+0000
TZOFFSETTO:+0000
TZNAME:UTC
DTSTART:20150101T000000
END:STANDARD
END:VTIMEZONE
BEGIN:VTIMEZONE
TZID:Europe/Paris
BEGIN:DAYLIGHT
TZOFFSETFROM:+0100
TZOFFSETTO:+0200
TZNAME:CEST
DTSTART:20150329T010000
END:DAYLIGHT
BEGIN:STANDARD
TZOFFSETFROM:+0200
TZOFFSETTO:+0100
TZNAME:CET
DTSTART:20151025T010000
END:STANDARD
BEGIN:DAYLIGHT
TZOFFSETFROM:+0100
TZOFFSETTO:+0200
TZNAME:CEST
DTSTART:20160327T010000
END:DAYLIGHT
BEGIN:STANDARD
TZOFFSETFROM:+0200
TZOFFSETTO:+0100
TZNAME:CET
DTSTART:20161030T010000
END:STANDARD
BEGIN:DAYLIGHT
TZOFFSETFROM:+0100
TZOFFSETTO:+0200
TZNAME:CEST
DTSTART:20170326T010000
END:DAYLIGHT
BEGIN:STANDARD
TZOFFSETFROM:+0200
TZOFFSETTO:+0100
TZNAME:CET
DTSTART:20171029T010000
END:STANDARD
END:VTIMEZONE
BEGIN:VEVENT
DTSTART;TZID=UTC:20160630T100000
DTEND;TZID=UTC:20160630T160000
DTSTAMP:20260425T235609
CREATED:20160516T114214Z
LAST-MODIFIED:20160516T114214Z
UID:1507-1467280800-1467302400@www.pasda.org.uk
SUMMARY:Community Garden Group
DESCRIPTION:
URL:https://www.pasda.org.uk/index.php/event/community-garden-group-22/
LOCATION:Craigie’s Farm\, South Queensferry\, EH30 9AR
CATEGORIES:Community Garden Group
END:VEVENT
BEGIN:VEVENT
DTSTART;TZID=UTC:20160630T100000
DTEND;TZID=UTC:20160630T160000
DTSTAMP:20260425T235609
CREATED:20160516T114214Z
LAST-MODIFIED:20160516T114214Z
UID:8514-1467280800-1467302400@www.pasda.org.uk
SUMMARY:Community Garden Group
DESCRIPTION:
URL:https://www.pasda.org.uk/index.php/event/community-garden-group-22-2/
LOCATION:Craigie’s Farm\, South Queensferry\, EH30 9AR
CATEGORIES:Community Garden Group
END:VEVENT
BEGIN:VEVENT
DTSTART;TZID=Europe/Paris:20160630T183000
DTEND;TZID=Europe/Paris:20160630T203000
DTSTAMP:20260425T235609
CREATED:20160516T115025Z
LAST-MODIFIED:20160516T115025Z
UID:1514-1467311400-1467318600@www.pasda.org.uk
SUMMARY:East Lothian Carers Group
DESCRIPTION:
URL:https://www.pasda.org.uk/index.php/event/east-lothian-carers-group-20/
LOCATION:Carers of East Lothian\, 94 Musselburgh High Street\, Musselburgh\, EH21 7EA\, United Kingdom
CATEGORIES:East Lothian Carers Group
END:VEVENT
BEGIN:VEVENT
DTSTART;TZID=Europe/Paris:20160630T183000
DTEND;TZID=Europe/Paris:20160630T203000
DTSTAMP:20260425T235609
CREATED:20160516T115025Z
LAST-MODIFIED:20160516T115025Z
UID:8518-1467311400-1467318600@www.pasda.org.uk
SUMMARY:East Lothian Carers Group
DESCRIPTION:
URL:https://www.pasda.org.uk/index.php/event/east-lothian-carers-group-20-2/
LOCATION:Carers of East Lothian\, 94 Musselburgh High Street\, Musselburgh\, EH21 7EA\, United Kingdom
CATEGORIES:East Lothian Carers Group
END:VEVENT
END:VCALENDAR