BEGIN:VCALENDAR
VERSION:2.0
PRODID:-//Pasda - ECPv6.15.20//NONSGML v1.0//EN
CALSCALE:GREGORIAN
METHOD:PUBLISH
X-ORIGINAL-URL:https://www.pasda.org.uk
X-WR-CALDESC:Events for Pasda
REFRESH-INTERVAL;VALUE=DURATION:PT1H
X-Robots-Tag:noindex
X-PUBLISHED-TTL:PT1H
BEGIN:VTIMEZONE
TZID:Europe/Paris
BEGIN:DAYLIGHT
TZOFFSETFROM:+0100
TZOFFSETTO:+0200
TZNAME:CEST
DTSTART:20150329T010000
END:DAYLIGHT
BEGIN:STANDARD
TZOFFSETFROM:+0200
TZOFFSETTO:+0100
TZNAME:CET
DTSTART:20151025T010000
END:STANDARD
BEGIN:DAYLIGHT
TZOFFSETFROM:+0100
TZOFFSETTO:+0200
TZNAME:CEST
DTSTART:20160327T010000
END:DAYLIGHT
BEGIN:STANDARD
TZOFFSETFROM:+0200
TZOFFSETTO:+0100
TZNAME:CET
DTSTART:20161030T010000
END:STANDARD
BEGIN:DAYLIGHT
TZOFFSETFROM:+0100
TZOFFSETTO:+0200
TZNAME:CEST
DTSTART:20170326T010000
END:DAYLIGHT
BEGIN:STANDARD
TZOFFSETFROM:+0200
TZOFFSETTO:+0100
TZNAME:CET
DTSTART:20171029T010000
END:STANDARD
END:VTIMEZONE
BEGIN:VEVENT
DTSTART;TZID=Europe/Paris:20160921T183000
DTEND;TZID=Europe/Paris:20160921T200000
DTSTAMP:20260425T223631
CREATED:20160725T142837Z
LAST-MODIFIED:20160725T142837Z
UID:1761-1474482600-1474488000@www.pasda.org.uk
SUMMARY:West Lothian Carers Group
DESCRIPTION:
URL:https://www.pasda.org.uk/index.php/event/west-lothian-carers-group-21/
LOCATION:Almond House\, Quarrywood Court\, Livingston\, EH54 6AX\, United Kingdom
CATEGORIES:West Lothian Carers Group
END:VEVENT
BEGIN:VEVENT
DTSTART;TZID=Europe/Paris:20160921T183000
DTEND;TZID=Europe/Paris:20160921T200000
DTSTAMP:20260425T223631
CREATED:20160725T142837Z
LAST-MODIFIED:20160725T142837Z
UID:8537-1474482600-1474488000@www.pasda.org.uk
SUMMARY:West Lothian Carers Group
DESCRIPTION:
URL:https://www.pasda.org.uk/index.php/event/west-lothian-carers-group-21-2/
LOCATION:Almond House\, Quarrywood Court\, Livingston\, EH54 6AX\, United Kingdom
CATEGORIES:West Lothian Carers Group
END:VEVENT
END:VCALENDAR