BEGIN:VCALENDAR
VERSION:2.0
PRODID:-//Pasda - ECPv6.15.20//NONSGML v1.0//EN
CALSCALE:GREGORIAN
METHOD:PUBLISH
X-ORIGINAL-URL:https://www.pasda.org.uk
X-WR-CALDESC:Events for Pasda
REFRESH-INTERVAL;VALUE=DURATION:PT1H
X-Robots-Tag:noindex
X-PUBLISHED-TTL:PT1H
BEGIN:VTIMEZONE
TZID:Europe/Paris
BEGIN:DAYLIGHT
TZOFFSETFROM:+0100
TZOFFSETTO:+0200
TZNAME:CEST
DTSTART:20150329T010000
END:DAYLIGHT
BEGIN:STANDARD
TZOFFSETFROM:+0200
TZOFFSETTO:+0100
TZNAME:CET
DTSTART:20151025T010000
END:STANDARD
BEGIN:DAYLIGHT
TZOFFSETFROM:+0100
TZOFFSETTO:+0200
TZNAME:CEST
DTSTART:20160327T010000
END:DAYLIGHT
BEGIN:STANDARD
TZOFFSETFROM:+0200
TZOFFSETTO:+0100
TZNAME:CET
DTSTART:20161030T010000
END:STANDARD
BEGIN:DAYLIGHT
TZOFFSETFROM:+0100
TZOFFSETTO:+0200
TZNAME:CEST
DTSTART:20170326T010000
END:DAYLIGHT
BEGIN:STANDARD
TZOFFSETFROM:+0200
TZOFFSETTO:+0100
TZNAME:CET
DTSTART:20171029T010000
END:STANDARD
END:VTIMEZONE
BEGIN:VEVENT
DTSTART;TZID=Europe/Paris:20160929T100000
DTEND;TZID=Europe/Paris:20160929T160000
DTSTAMP:20260425T201457
CREATED:20160725T145115Z
LAST-MODIFIED:20160725T145115Z
UID:1774-1475143200-1475164800@www.pasda.org.uk
SUMMARY:Community Garden
DESCRIPTION:
URL:https://www.pasda.org.uk/index.php/event/community-garden-13/
LOCATION:Craigie’s Farm\, South Queensferry\, EH30 9AR
CATEGORIES:Community Garden Group
END:VEVENT
BEGIN:VEVENT
DTSTART;TZID=Europe/Paris:20160929T100000
DTEND;TZID=Europe/Paris:20160929T160000
DTSTAMP:20260425T201457
CREATED:20160725T145115Z
LAST-MODIFIED:20160725T145115Z
UID:8548-1475143200-1475164800@www.pasda.org.uk
SUMMARY:Community Garden
DESCRIPTION:
URL:https://www.pasda.org.uk/index.php/event/community-garden-13-2/
LOCATION:Craigie’s Farm\, South Queensferry\, EH30 9AR
CATEGORIES:Community Garden Group
END:VEVENT
BEGIN:VEVENT
DTSTART;TZID=Europe/Paris:20160929T183000
DTEND;TZID=Europe/Paris:20160929T203000
DTSTAMP:20260425T201457
CREATED:20160725T143721Z
LAST-MODIFIED:20160725T143721Z
UID:1765-1475173800-1475181000@www.pasda.org.uk
SUMMARY:East Lothian Carers Group
DESCRIPTION:
URL:https://www.pasda.org.uk/index.php/event/east-lothian-carers-group-21/
LOCATION:Carers of East Lothian\, 94 Musselburgh High Street\, Musselburgh\, EH21 7EA\, United Kingdom
CATEGORIES:East Lothian Carers Group
END:VEVENT
BEGIN:VEVENT
DTSTART;TZID=Europe/Paris:20160929T183000
DTEND;TZID=Europe/Paris:20160929T203000
DTSTAMP:20260425T201457
CREATED:20160725T143721Z
LAST-MODIFIED:20160725T143721Z
UID:8539-1475173800-1475181000@www.pasda.org.uk
SUMMARY:East Lothian Carers Group
DESCRIPTION:
URL:https://www.pasda.org.uk/index.php/event/east-lothian-carers-group-21-2/
LOCATION:Carers of East Lothian\, 94 Musselburgh High Street\, Musselburgh\, EH21 7EA\, United Kingdom
CATEGORIES:East Lothian Carers Group
END:VEVENT
END:VCALENDAR