BEGIN:VCALENDAR
VERSION:2.0
PRODID:-//Pasda - ECPv6.15.20//NONSGML v1.0//EN
CALSCALE:GREGORIAN
METHOD:PUBLISH
X-WR-CALNAME:Pasda
X-ORIGINAL-URL:https://www.pasda.org.uk
X-WR-CALDESC:Events for Pasda
REFRESH-INTERVAL;VALUE=DURATION:PT1H
X-Robots-Tag:noindex
X-PUBLISHED-TTL:PT1H
BEGIN:VTIMEZONE
TZID:Europe/Paris
BEGIN:DAYLIGHT
TZOFFSETFROM:+0100
TZOFFSETTO:+0200
TZNAME:CEST
DTSTART:20150329T010000
END:DAYLIGHT
BEGIN:STANDARD
TZOFFSETFROM:+0200
TZOFFSETTO:+0100
TZNAME:CET
DTSTART:20151025T010000
END:STANDARD
BEGIN:DAYLIGHT
TZOFFSETFROM:+0100
TZOFFSETTO:+0200
TZNAME:CEST
DTSTART:20160327T010000
END:DAYLIGHT
BEGIN:STANDARD
TZOFFSETFROM:+0200
TZOFFSETTO:+0100
TZNAME:CET
DTSTART:20161030T010000
END:STANDARD
BEGIN:DAYLIGHT
TZOFFSETFROM:+0100
TZOFFSETTO:+0200
TZNAME:CEST
DTSTART:20170326T010000
END:DAYLIGHT
BEGIN:STANDARD
TZOFFSETFROM:+0200
TZOFFSETTO:+0100
TZNAME:CET
DTSTART:20171029T010000
END:STANDARD
END:VTIMEZONE
BEGIN:VEVENT
DTSTART;TZID=Europe/Paris:20161019T140000
DTEND;TZID=Europe/Paris:20161019T150000
DTSTAMP:20260425T201404
CREATED:20161013T103342Z
LAST-MODIFIED:20161013T103342Z
UID:4355-1476885600-1476889200@www.pasda.org.uk
SUMMARY:Pasda Singing Group
DESCRIPTION:
URL:https://www.pasda.org.uk/index.php/event/pasda-singing-group/
LOCATION:Morningside United Church\, Holy Corner\, Edinburgh\, EH10 4DJ\, United Kingdom
END:VEVENT
BEGIN:VEVENT
DTSTART;TZID=Europe/Paris:20161019T140000
DTEND;TZID=Europe/Paris:20161019T150000
DTSTAMP:20260425T201404
CREATED:20161013T103342Z
LAST-MODIFIED:20161013T103342Z
UID:8560-1476885600-1476889200@www.pasda.org.uk
SUMMARY:Pasda Singing Group
DESCRIPTION:
URL:https://www.pasda.org.uk/index.php/event/pasda-singing-group-32/
LOCATION:Morningside United Church\, Holy Corner\, Edinburgh\, EH10 4DJ\, United Kingdom
END:VEVENT
END:VCALENDAR