BEGIN:VCALENDAR
VERSION:2.0
PRODID:-//Pasda - ECPv6.15.20//NONSGML v1.0//EN
CALSCALE:GREGORIAN
METHOD:PUBLISH
X-ORIGINAL-URL:https://www.pasda.org.uk
X-WR-CALDESC:Events for Pasda
REFRESH-INTERVAL;VALUE=DURATION:PT1H
X-Robots-Tag:noindex
X-PUBLISHED-TTL:PT1H
BEGIN:VTIMEZONE
TZID:Europe/Paris
BEGIN:DAYLIGHT
TZOFFSETFROM:+0100
TZOFFSETTO:+0200
TZNAME:CEST
DTSTART:20150329T010000
END:DAYLIGHT
BEGIN:STANDARD
TZOFFSETFROM:+0200
TZOFFSETTO:+0100
TZNAME:CET
DTSTART:20151025T010000
END:STANDARD
BEGIN:DAYLIGHT
TZOFFSETFROM:+0100
TZOFFSETTO:+0200
TZNAME:CEST
DTSTART:20160327T010000
END:DAYLIGHT
BEGIN:STANDARD
TZOFFSETFROM:+0200
TZOFFSETTO:+0100
TZNAME:CET
DTSTART:20161030T010000
END:STANDARD
BEGIN:DAYLIGHT
TZOFFSETFROM:+0100
TZOFFSETTO:+0200
TZNAME:CEST
DTSTART:20170326T010000
END:DAYLIGHT
BEGIN:STANDARD
TZOFFSETFROM:+0200
TZOFFSETTO:+0100
TZNAME:CET
DTSTART:20171029T010000
END:STANDARD
END:VTIMEZONE
BEGIN:VEVENT
DTSTART;TZID=Europe/Paris:20161103T183000
DTEND;TZID=Europe/Paris:20161103T203000
DTSTAMP:20260425T185131
CREATED:20161007T131844Z
LAST-MODIFIED:20161007T131844Z
UID:3227-1478197800-1478205000@www.pasda.org.uk
SUMMARY:Partners & Spouses Group
DESCRIPTION:Pasda welcomes people who support or care for their partner or spouse who are on the autism spectrum. Please feel free to come along to any of friendly meetings\, we wouldlove to hear from you.
URL:https://www.pasda.org.uk/index.php/event/partners-spouses-group-2018-10-04/
LOCATION:VOCAL Carer Centre\, 8-13 Johnston Terrace\, Edinburgh\, EH1 2PW\, United Kingdom
END:VEVENT
BEGIN:VEVENT
DTSTART;TZID=Europe/Paris:20161103T183000
DTEND;TZID=Europe/Paris:20161103T203000
DTSTAMP:20260425T185131
CREATED:20161007T131844Z
LAST-MODIFIED:20161007T131844Z
UID:8554-1478197800-1478205000@www.pasda.org.uk
SUMMARY:Partners & Spouses Group
DESCRIPTION:Pasda welcomes people who support or care for their partner or spouse who are on the autism spectrum. Please feel free to come along to any of friendly meetings\, we wouldlove to hear from you.
URL:https://www.pasda.org.uk/index.php/event/partners-spouses-group-2018-10-04-2/
LOCATION:VOCAL Carer Centre\, 8-13 Johnston Terrace\, Edinburgh\, EH1 2PW\, United Kingdom
END:VEVENT
END:VCALENDAR