BEGIN:VCALENDAR
VERSION:2.0
PRODID:-//Pasda - ECPv6.15.20//NONSGML v1.0//EN
CALSCALE:GREGORIAN
METHOD:PUBLISH
X-WR-CALNAME:Pasda
X-ORIGINAL-URL:https://www.pasda.org.uk
X-WR-CALDESC:Events for Pasda
REFRESH-INTERVAL;VALUE=DURATION:PT1H
X-Robots-Tag:noindex
X-PUBLISHED-TTL:PT1H
BEGIN:VTIMEZONE
TZID:Europe/Paris
BEGIN:DAYLIGHT
TZOFFSETFROM:+0100
TZOFFSETTO:+0200
TZNAME:CEST
DTSTART:20150329T010000
END:DAYLIGHT
BEGIN:STANDARD
TZOFFSETFROM:+0200
TZOFFSETTO:+0100
TZNAME:CET
DTSTART:20151025T010000
END:STANDARD
BEGIN:DAYLIGHT
TZOFFSETFROM:+0100
TZOFFSETTO:+0200
TZNAME:CEST
DTSTART:20160327T010000
END:DAYLIGHT
BEGIN:STANDARD
TZOFFSETFROM:+0200
TZOFFSETTO:+0100
TZNAME:CET
DTSTART:20161030T010000
END:STANDARD
BEGIN:DAYLIGHT
TZOFFSETFROM:+0100
TZOFFSETTO:+0200
TZNAME:CEST
DTSTART:20170326T010000
END:DAYLIGHT
BEGIN:STANDARD
TZOFFSETFROM:+0200
TZOFFSETTO:+0100
TZNAME:CET
DTSTART:20171029T010000
END:STANDARD
END:VTIMEZONE
BEGIN:VEVENT
DTSTART;TZID=Europe/Paris:20161118T100000
DTEND;TZID=Europe/Paris:20161118T140000
DTSTAMP:20260425T185013
CREATED:20161031T160018Z
LAST-MODIFIED:20161031T160018Z
UID:4538-1479463200-1479477600@www.pasda.org.uk
SUMMARY:Walking Group.
DESCRIPTION:This month we shall be walking the 3 mile stretch of the Union Canal between Kingsknowe Station and Lochrin Basin \, Edinburgh. \nMeet Cath at 10am near to the steps of the Scottish National Gallery at the Mound (EH2 2EL)\nWe will board the 44 Lothian bus to Dovecot Grove before alighting. \nAfter we have completed our walk\, we shall go for a light lunch at one of the cafes in the Fountainbridge area. \nIf you intend to join us please let Cath know by emailing her. \nCath.purdie@pasda.org.uk \nCath
URL:https://www.pasda.org.uk/index.php/event/walking-group-14/
END:VEVENT
BEGIN:VEVENT
DTSTART;TZID=Europe/Paris:20161118T100000
DTEND;TZID=Europe/Paris:20161118T140000
DTSTAMP:20260425T185013
CREATED:20161031T160018Z
LAST-MODIFIED:20161031T160018Z
UID:8564-1479463200-1479477600@www.pasda.org.uk
SUMMARY:Walking Group.
DESCRIPTION:This month we shall be walking the 3 mile stretch of the Union Canal between Kingsknowe Station and Lochrin Basin \, Edinburgh. \nMeet Cath at 10am near to the steps of the Scottish National Gallery at the Mound (EH2 2EL)\nWe will board the 44 Lothian bus to Dovecot Grove before alighting. \nAfter we have completed our walk\, we shall go for a light lunch at one of the cafes in the Fountainbridge area. \nIf you intend to join us please let Cath know by emailing her. \nCath.purdie@pasda.org.uk \nCath
URL:https://www.pasda.org.uk/index.php/event/walking-group-14-2/
END:VEVENT
END:VCALENDAR