BEGIN:VCALENDAR
VERSION:2.0
PRODID:-//Pasda - ECPv6.15.20//NONSGML v1.0//EN
CALSCALE:GREGORIAN
METHOD:PUBLISH
X-ORIGINAL-URL:https://www.pasda.org.uk
X-WR-CALDESC:Events for Pasda
REFRESH-INTERVAL;VALUE=DURATION:PT1H
X-Robots-Tag:noindex
X-PUBLISHED-TTL:PT1H
BEGIN:VTIMEZONE
TZID:Europe/Paris
BEGIN:DAYLIGHT
TZOFFSETFROM:+0100
TZOFFSETTO:+0200
TZNAME:CEST
DTSTART:20150329T010000
END:DAYLIGHT
BEGIN:STANDARD
TZOFFSETFROM:+0200
TZOFFSETTO:+0100
TZNAME:CET
DTSTART:20151025T010000
END:STANDARD
BEGIN:DAYLIGHT
TZOFFSETFROM:+0100
TZOFFSETTO:+0200
TZNAME:CEST
DTSTART:20160327T010000
END:DAYLIGHT
BEGIN:STANDARD
TZOFFSETFROM:+0200
TZOFFSETTO:+0100
TZNAME:CET
DTSTART:20161030T010000
END:STANDARD
BEGIN:DAYLIGHT
TZOFFSETFROM:+0100
TZOFFSETTO:+0200
TZNAME:CEST
DTSTART:20170326T010000
END:DAYLIGHT
BEGIN:STANDARD
TZOFFSETFROM:+0200
TZOFFSETTO:+0100
TZNAME:CET
DTSTART:20171029T010000
END:STANDARD
BEGIN:DAYLIGHT
TZOFFSETFROM:+0100
TZOFFSETTO:+0200
TZNAME:CEST
DTSTART:20180325T010000
END:DAYLIGHT
BEGIN:STANDARD
TZOFFSETFROM:+0200
TZOFFSETTO:+0100
TZNAME:CET
DTSTART:20181028T010000
END:STANDARD
END:VTIMEZONE
BEGIN:VEVENT
DTSTART;TZID=Europe/Paris:20161224T080000
DTEND;TZID=Europe/Paris:20170103T170000
DTSTAMP:20260425T161253
CREATED:20161123T122228Z
LAST-MODIFIED:20161123T122228Z
UID:4941-1482566400-1483462800@www.pasda.org.uk
SUMMARY:Pasda is closed
DESCRIPTION:Have a merry Christmas and a happy hew year! \nDon’t forget to send in a photo or two of you in your Christmas Jumpers! \nHo-ho-ho!!!
URL:https://www.pasda.org.uk/index.php/event/pasda-are-closed/
END:VEVENT
BEGIN:VEVENT
DTSTART;TZID=Europe/Paris:20161224T080000
DTEND;TZID=Europe/Paris:20170103T170000
DTSTAMP:20260425T161253
CREATED:20161123T122228Z
LAST-MODIFIED:20161123T122228Z
UID:8570-1482566400-1483462800@www.pasda.org.uk
SUMMARY:Pasda is closed
DESCRIPTION:Have a merry Christmas and a happy hew year! \nDon’t forget to send in a photo or two of you in your Christmas Jumpers! \nHo-ho-ho!!!
URL:https://www.pasda.org.uk/index.php/event/pasda-are-closed-2/
END:VEVENT
END:VCALENDAR