BEGIN:VCALENDAR
VERSION:2.0
PRODID:-//Pasda - ECPv6.15.20//NONSGML v1.0//EN
CALSCALE:GREGORIAN
METHOD:PUBLISH
X-ORIGINAL-URL:https://www.pasda.org.uk
X-WR-CALDESC:Events for Pasda
REFRESH-INTERVAL;VALUE=DURATION:PT1H
X-Robots-Tag:noindex
X-PUBLISHED-TTL:PT1H
BEGIN:VTIMEZONE
TZID:UTC
BEGIN:STANDARD
TZOFFSETFROM:+0000
TZOFFSETTO:+0000
TZNAME:UTC
DTSTART:20160101T000000
END:STANDARD
END:VTIMEZONE
BEGIN:VEVENT
DTSTART;TZID=UTC:20170325T100000
DTEND;TZID=UTC:20170325T120000
DTSTAMP:20260425T115724
CREATED:20170223T170507Z
LAST-MODIFIED:20170223T170507Z
UID:5303-1490436000-1490443200@www.pasda.org.uk
SUMMARY:Weekend Coffee Morning
DESCRIPTION:Come along to the weekend coffee morning for a natter. You’re always welcome.\nIf you would like more info on the coffee morning contact Cath Purdie on: \n07599 930034 or cath.purdie@pasda.org.uk
URL:https://www.pasda.org.uk/index.php/event/weekend-coffee-morning-4/
LOCATION:Lloyd’s No.1 Playfair\, Omni Centre\, Greenside Row\, Edinburgh\, EH1 3AA\, United Kingdom
END:VEVENT
BEGIN:VEVENT
DTSTART;TZID=UTC:20170325T100000
DTEND;TZID=UTC:20170325T120000
DTSTAMP:20260425T115725
CREATED:20170223T170507Z
LAST-MODIFIED:20170223T170507Z
UID:8580-1490436000-1490443200@www.pasda.org.uk
SUMMARY:Weekend Coffee Morning
DESCRIPTION:Come along to the weekend coffee morning for a natter. You’re always welcome.\nIf you would like more info on the coffee morning contact Cath Purdie on: \n07599 930034 or cath.purdie@pasda.org.uk
URL:https://www.pasda.org.uk/index.php/event/weekend-coffee-morning-4-2/
LOCATION:Lloyd’s No.1 Playfair\, Omni Centre\, Greenside Row\, Edinburgh\, EH1 3AA\, United Kingdom
END:VEVENT
END:VCALENDAR