BEGIN:VCALENDAR
VERSION:2.0
PRODID:-//Pasda - ECPv6.15.20//NONSGML v1.0//EN
CALSCALE:GREGORIAN
METHOD:PUBLISH
X-WR-CALNAME:Pasda
X-ORIGINAL-URL:https://www.pasda.org.uk
X-WR-CALDESC:Events for Pasda
REFRESH-INTERVAL;VALUE=DURATION:PT1H
X-Robots-Tag:noindex
X-PUBLISHED-TTL:PT1H
BEGIN:VTIMEZONE
TZID:UTC
BEGIN:STANDARD
TZOFFSETFROM:+0000
TZOFFSETTO:+0000
TZNAME:UTC
DTSTART:20160101T000000
END:STANDARD
END:VTIMEZONE
BEGIN:VEVENT
DTSTART;TZID=UTC:20170402T193000
DTEND;TZID=UTC:20170402T223000
DTSTAMP:20260425T115729
CREATED:20170227T164421Z
LAST-MODIFIED:20170227T164421Z
UID:5356-1491161400-1491172200@www.pasda.org.uk
SUMMARY:World Autism Awareness 2017
DESCRIPTION:Our first public event forfamilies will be a variety of live acoustic music\, story-telling\, comedy and Jojo Sutherland as comp├¿re – what could be more fun? It will held at the Granary\, 32-34 Shore\, Leith\, Edinburgh EH6 6QN venue which has room for dancing and the bar will be open for food and drinks to purchase on the night. As it is a licenced bar only people over 16 years will be admitted. Entrance is free but we will be collecting donations for Pasda. \nTo register\, please contact info@pasda.org.uk phone 0131 475 2416 or register on Eventbrite to book your place. \nAlso Autism Initiatives is having a half day training session on Friday 31st March as part of World Autism Awareness Week. Rachel McRitchie is holding an afternoon session from 2 ÔÇô 4.30pm at Number 6 for anyone looking to gain a basic understanding of autism. \nContact Number 6 to book a place by emailing joanna.dickinson@aiscotland.org.uk. \nYou can find other events happening across Edinburgh during the period 28th March – 6th April on the Council’s web page.
URL:https://www.pasda.org.uk/index.php/event/world-autism-awareness-2017/
LOCATION:The Granary\, 32-34 The Shore\, Edinburgh\, EH6 6QN
END:VEVENT
BEGIN:VEVENT
DTSTART;TZID=UTC:20170402T193000
DTEND;TZID=UTC:20170402T223000
DTSTAMP:20260425T115729
CREATED:20170227T164421Z
LAST-MODIFIED:20170227T164421Z
UID:8588-1491161400-1491172200@www.pasda.org.uk
SUMMARY:World Autism Awareness 2017
DESCRIPTION:Our first public event for families will be a variety of live acoustic music\, story-telling\, comedy and Jojo Sutherland as compère – what could be more fun?  It will held at the Granary\, 32-34 Shore\, Leith\, Edinburgh EH6 6QN venue which has room for dancing and the bar will be open for food and drinks to purchase on the night. As it is a licenced bar only people over 16 years will be admitted. Entrance is free but we will be collecting donations for Pasda. \nTo register\, please contact info@pasda.org.uk phone 0131 475 2416 or register on Eventbrite to book your place. \nAlso Autism Initiatives is having a half day training session on Friday 31st March as part of World Autism Awareness Week.  Rachel McRitchie is holding an afternoon session from 2 – 4.30pm at Number 6 for anyone looking to gain a basic understanding of autism. \nContact Number 6 to book a place by emailing joanna.dickinson@aiscotland.org.uk. \nYou can find other events happening across Edinburgh during the period 28th March – 6th April on the Council’s web page.
URL:https://www.pasda.org.uk/index.php/event/world-autism-awareness-2017-2/
LOCATION:The Granary\, 32-34 The Shore\, Edinburgh\, EH6 6QN
END:VEVENT
END:VCALENDAR