BEGIN:VCALENDAR
VERSION:2.0
PRODID:-//Pasda - ECPv6.15.20//NONSGML v1.0//EN
CALSCALE:GREGORIAN
METHOD:PUBLISH
X-WR-CALNAME:Pasda
X-ORIGINAL-URL:https://www.pasda.org.uk
X-WR-CALDESC:Events for Pasda
REFRESH-INTERVAL;VALUE=DURATION:PT1H
X-Robots-Tag:noindex
X-PUBLISHED-TTL:PT1H
BEGIN:VTIMEZONE
TZID:UTC
BEGIN:STANDARD
TZOFFSETFROM:+0000
TZOFFSETTO:+0000
TZNAME:UTC
DTSTART:20170101T000000
END:STANDARD
END:VTIMEZONE
BEGIN:VEVENT
DTSTART;TZID=UTC:20180606T140000
DTEND;TZID=UTC:20180606T150000
DTSTAMP:20260424T150710
CREATED:20180522T101158Z
LAST-MODIFIED:20180522T101158Z
UID:6265-1528293600-1528297200@www.pasda.org.uk
SUMMARY:Singing Group.
DESCRIPTION:Come along for a Sing-a-long! Friendly and fun\, you are always welcome!
URL:https://www.pasda.org.uk/index.php/event/singing-group-6/
LOCATION:Morningside United Church\, Holy Corner\, Edinburgh\, EH10 4DJ\, United Kingdom
ORGANIZER;CN="The Pasda Team":MAILTO:info@pasda.org.uk
END:VEVENT
BEGIN:VEVENT
DTSTART;TZID=UTC:20180606T140000
DTEND;TZID=UTC:20180606T150000
DTSTAMP:20260424T150710
CREATED:20180522T101158Z
LAST-MODIFIED:20180522T101158Z
UID:8647-1528293600-1528297200@www.pasda.org.uk
SUMMARY:Singing Group.
DESCRIPTION:Come along for a Sing-a-long! Friendly and fun\, you are always welcome!
URL:https://www.pasda.org.uk/index.php/event/singing-group-6-2/
LOCATION:Morningside United Church\, Holy Corner\, Edinburgh\, EH10 4DJ\, United Kingdom
ORGANIZER;CN="The Pasda Team":MAILTO:info@pasda.org.uk
END:VEVENT
END:VCALENDAR