BEGIN:VCALENDAR
VERSION:2.0
PRODID:-//Pasda - ECPv6.15.20//NONSGML v1.0//EN
CALSCALE:GREGORIAN
METHOD:PUBLISH
X-WR-CALNAME:Pasda
X-ORIGINAL-URL:https://www.pasda.org.uk
X-WR-CALDESC:Events for Pasda
REFRESH-INTERVAL;VALUE=DURATION:PT1H
X-Robots-Tag:noindex
X-PUBLISHED-TTL:PT1H
BEGIN:VTIMEZONE
TZID:UTC
BEGIN:STANDARD
TZOFFSETFROM:+0000
TZOFFSETTO:+0000
TZNAME:UTC
DTSTART:20170101T000000
END:STANDARD
END:VTIMEZONE
BEGIN:VEVENT
DTSTART;TZID=UTC:20180829T143000
DTEND;TZID=UTC:20180829T163000
DTSTAMP:20260424T084609
CREATED:20180725T145911Z
LAST-MODIFIED:20180725T145911Z
UID:8658-1535553000-1535560200@www.pasda.org.uk
SUMMARY:Mindfulness Session
DESCRIPTION:Join us for a  free Mindfulness session led by therapist Geraldine McCullagh .All carers of autistic adults in Lothian welcome. \nRefreshments will be available. \nBooking essential: Info@pasda.org.uk
URL:https://www.pasda.org.uk/index.php/event/mindfulness-session-2/
LOCATION:Midlothian Voluntary Action\, 4-6 White Hart Street\, Dalkeith\, EH22 1AE
CATEGORIES:Workshops
ORGANIZER;CN="The Pasda Team":MAILTO:info@pasda.org.uk
END:VEVENT
BEGIN:VEVENT
DTSTART;TZID=UTC:20180829T143000
DTEND;TZID=UTC:20180829T163000
DTSTAMP:20260424T084609
CREATED:20180725T145911Z
LAST-MODIFIED:20180725T145911Z
UID:6492-1535553000-1535560200@www.pasda.org.uk
SUMMARY:Mindfulness Session
DESCRIPTION:Join us for a free Mindfulness session led by therapist Geraldine McCullagh .All carers of autistic adults in Lothian welcome. \nRefreshments will be available. \nBooking essential: Info@pasda.org.uk
URL:https://www.pasda.org.uk/index.php/event/mindfulness-session/
LOCATION:Midlothian Voluntary Action\, 4-6 White Hart Street\, Dalkeith\, EH22 1AE
CATEGORIES:Workshops
ORGANIZER;CN="The Pasda Team":MAILTO:info@pasda.org.uk
END:VEVENT
END:VCALENDAR