BEGIN:VCALENDAR
VERSION:2.0
PRODID:-//Pasda - ECPv6.15.20//NONSGML v1.0//EN
CALSCALE:GREGORIAN
METHOD:PUBLISH
X-WR-CALNAME:Pasda
X-ORIGINAL-URL:https://www.pasda.org.uk
X-WR-CALDESC:Events for Pasda
REFRESH-INTERVAL;VALUE=DURATION:PT1H
X-Robots-Tag:noindex
X-PUBLISHED-TTL:PT1H
BEGIN:VTIMEZONE
TZID:UTC
BEGIN:STANDARD
TZOFFSETFROM:+0000
TZOFFSETTO:+0000
TZNAME:UTC
DTSTART:20180101T000000
END:STANDARD
END:VTIMEZONE
BEGIN:VEVENT
DTSTART;TZID=UTC:20190610T190000
DTEND;TZID=UTC:20190610T210000
DTSTAMP:20260426T025631
CREATED:20190507T172915Z
LAST-MODIFIED:20190507T172915Z
UID:7010-1560193200-1560200400@www.pasda.org.uk
SUMMARY:Carer Information Meeting
DESCRIPTION:This meeting is open to all family and friends supporting an autistic adult (over16) living in Edinburgh and the Lothians. \nWe usually invite a speaker to come along and discuss services that will be of interest to carers of adults with autism\, as well as providing the opportunity for carers to discuss their own situation in a safe and welcoming environment. \nThis group is held at Number 6\, 24 Hill Street\, Edinburgh EH2 3JZ
URL:https://www.pasda.org.uk/index.php/event/carer-information-meeting-12/
LOCATION:Number 6\, 24 Hill Street\, Edinburgh\, EH2 3JZ\, United Kingdom
CATEGORIES:Carer Information Meeting
ORGANIZER;CN="The Pasda Team":MAILTO:info@pasda.org.uk
END:VEVENT
BEGIN:VEVENT
DTSTART;TZID=UTC:20190610T190000
DTEND;TZID=UTC:20190610T210000
DTSTAMP:20260426T025631
CREATED:20190507T172915Z
LAST-MODIFIED:20190507T172915Z
UID:8713-1560193200-1560200400@www.pasda.org.uk
SUMMARY:Carer Information Meeting
DESCRIPTION:This meeting is open to all family and friends supporting an autistic adult (over16)  living in Edinburgh and the Lothians. \nWe usually invite a speaker to come along and discuss services that will be of interest to carers of adults with autism\, as well as providing the opportunity for carers to discuss their own situation in a safe and welcoming environment. \nThis group is held at Number 6\, 24 Hill Street\, Edinburgh EH2 3JZ
URL:https://www.pasda.org.uk/index.php/event/carer-information-meeting-12-2/
LOCATION:Number 6\, 24 Hill Street\, Edinburgh\, EH2 3JZ\, United Kingdom
CATEGORIES:Carer Information Meeting
ORGANIZER;CN="The Pasda Team":MAILTO:info@pasda.org.uk
END:VEVENT
END:VCALENDAR