BEGIN:VCALENDAR
VERSION:2.0
PRODID:-//Pasda - ECPv6.15.20//NONSGML v1.0//EN
CALSCALE:GREGORIAN
METHOD:PUBLISH
X-WR-CALNAME:Pasda
X-ORIGINAL-URL:https://www.pasda.org.uk
X-WR-CALDESC:Events for Pasda
REFRESH-INTERVAL;VALUE=DURATION:PT1H
X-Robots-Tag:noindex
X-PUBLISHED-TTL:PT1H
BEGIN:VTIMEZONE
TZID:UTC
BEGIN:STANDARD
TZOFFSETFROM:+0000
TZOFFSETTO:+0000
TZNAME:UTC
DTSTART:20210101T000000
END:STANDARD
END:VTIMEZONE
BEGIN:VEVENT
DTSTART;TZID=UTC:20221130T190000
DTEND;TZID=UTC:20221130T210000
DTSTAMP:20260420T072632
CREATED:20221018T104421Z
LAST-MODIFIED:20221018T104421Z
UID:7908-1669834800-1669842000@www.pasda.org.uk
SUMMARY:Pasda Carer Information Evening
DESCRIPTION:All carers of autistic adults are welcome to attend our Carer Information meetings. \nWe often have a guest speaker in attendance or an interesting topic or theme to discuss \nThere will be refreshments courtesy of Pasda. \nThis month we welcome Dr Andy Stanfield and Nickola Jones form NHS Lothian’s Autism and ADHD Resource Team.
URL:https://www.pasda.org.uk/index.php/event/pasda-carer-information-evening/
LOCATION:Number 6\, 24 Hill Street\, Edinburgh\, EH2 3JZ\, United Kingdom
CATEGORIES:Carer Information Meeting
ORGANIZER;CN="The Pasda Team":MAILTO:info@pasda.org.uk
END:VEVENT
BEGIN:VEVENT
DTSTART;TZID=UTC:20221130T190000
DTEND;TZID=UTC:20221130T210000
DTSTAMP:20260420T072632
CREATED:20221018T104421Z
LAST-MODIFIED:20221018T104421Z
UID:8810-1669834800-1669842000@www.pasda.org.uk
SUMMARY:Pasda Carer Information Evening
DESCRIPTION:All carers of autistic adults are welcome to attend our Carer Information meetings. \nWe often have a guest speaker in attendance or an interesting  topic or theme to discuss \nThere will be refreshments courtesy of Pasda. \nThis month we welcome Dr Andy Stanfield and Nickola Jones form NHS Lothian’s Autism and ADHD Resource Team.
URL:https://www.pasda.org.uk/index.php/event/pasda-carer-information-evening-3/
LOCATION:Number 6\, 24 Hill Street\, Edinburgh\, EH2 3JZ\, United Kingdom
CATEGORIES:Carer Information Meeting
ORGANIZER;CN="The Pasda Team":MAILTO:info@pasda.org.uk
END:VEVENT
END:VCALENDAR