BEGIN:VCALENDAR
VERSION:2.0
PRODID:-//Pasda - ECPv6.15.20//NONSGML v1.0//EN
CALSCALE:GREGORIAN
METHOD:PUBLISH
X-WR-CALNAME:Pasda
X-ORIGINAL-URL:https://www.pasda.org.uk
X-WR-CALDESC:Events for Pasda
REFRESH-INTERVAL;VALUE=DURATION:PT1H
X-Robots-Tag:noindex
X-PUBLISHED-TTL:PT1H
BEGIN:VTIMEZONE
TZID:UTC
BEGIN:STANDARD
TZOFFSETFROM:+0000
TZOFFSETTO:+0000
TZNAME:UTC
DTSTART:20210101T000000
END:STANDARD
END:VTIMEZONE
BEGIN:VEVENT
DTSTART;TZID=UTC:20221108T100000
DTEND;TZID=UTC:20221108T120000
DTSTAMP:20260421T153855
CREATED:20221018T101839Z
LAST-MODIFIED:20221018T101839Z
UID:8808-1667901600-1667908800@www.pasda.org.uk
SUMMARY:Pasda Carers Coffee Morning
DESCRIPTION:Join Cath Purdie  for a cuppa and some conversation at our next Pasda Carers Coffee Morning. Please email us to register your interest. \nThis month we welcome Kathleen Taylor \, Engagement and Participation (Carers) Officer from the Mental Welfare Commission.
URL:https://www.pasda.org.uk/index.php/event/pasda-carers-coffee-morning-10-2/
LOCATION:Number 6\, 24 Hill Street\, Edinburgh\, EH2 3JZ\, United Kingdom
CATEGORIES:Coffee Morning
ORGANIZER;CN="The Pasda Team":MAILTO:info@pasda.org.uk
END:VEVENT
BEGIN:VEVENT
DTSTART;TZID=UTC:20221108T100000
DTEND;TZID=UTC:20221108T120000
DTSTAMP:20260421T153855
CREATED:20221018T101839Z
LAST-MODIFIED:20221018T102108Z
UID:7904-1667901600-1667908800@www.pasda.org.uk
SUMMARY:Pasda Carers Coffee Morning
DESCRIPTION:Join Cath Purdie for a cuppa and some conversation at our next Pasda Carers Coffee Morning. Please email us to register your interest. \nThis month we welcome Kathleen Taylor \, Engagement and Participation (Carers) Officer from the Mental Welfare Commission.
URL:https://www.pasda.org.uk/index.php/event/pasda-carers-coffee-morning-10/
LOCATION:Number 6\, 24 Hill Street\, Edinburgh\, EH2 3JZ\, United Kingdom
CATEGORIES:Coffee Morning
ORGANIZER;CN="The Pasda Team":MAILTO:info@pasda.org.uk
END:VEVENT
BEGIN:VEVENT
DTSTART;TZID=UTC:20221126T100000
DTEND;TZID=UTC:20221126T120000
DTSTAMP:20260421T153855
CREATED:20221018T101111Z
LAST-MODIFIED:20221018T101111Z
UID:8806-1669456800-1669464000@www.pasda.org.uk
SUMMARY:Pasda Carers Saturday Coffee Morning
DESCRIPTION:Our monthly Saturday  coffee morning is open to all families and friends of autistic adults (over16 ) who reside across Edinburgh and the Lothians. \nIt is facilitated by Pasda Volunteer\, Marion Rodgers. Please email us to let us know you are coming along. \nWe meet at Hotel Indigo \, Princes Street\, Edinburgh  at the Library on the first floor.
URL:https://www.pasda.org.uk/index.php/event/pasda-carers-saturday-coffee-morning-9/
LOCATION:Hotel Indigo
CATEGORIES:Coffee Morning
ORGANIZER;CN="The Pasda Team":MAILTO:info@pasda.org.uk
END:VEVENT
BEGIN:VEVENT
DTSTART;TZID=UTC:20221126T100000
DTEND;TZID=UTC:20221126T120000
DTSTAMP:20260421T153855
CREATED:20221018T101111Z
LAST-MODIFIED:20221018T101111Z
UID:7900-1669456800-1669464000@www.pasda.org.uk
SUMMARY:Pasda Carers Saturday Coffee Morning
DESCRIPTION:Our monthly Saturday coffee morning is open to all families and friends of autistic adults (over16 ) who reside across Edinburgh and the Lothians. \nIt is facilitated by Pasda Volunteer\, Marion Rodgers. Please email us to let us know you are coming along. \nWe meet at Hotel Indigo \, Princes Street\, Edinburgh at the Library on the first floor.
URL:https://www.pasda.org.uk/index.php/event/pasda-carers-saturday-coffee-morning/
LOCATION:Hotel Indigo
CATEGORIES:Coffee Morning
ORGANIZER;CN="The Pasda Team":MAILTO:info@pasda.org.uk
END:VEVENT
END:VCALENDAR