BEGIN:VCALENDAR
VERSION:2.0
PRODID:-//Pasda - ECPv6.15.20//NONSGML v1.0//EN
CALSCALE:GREGORIAN
METHOD:PUBLISH
X-ORIGINAL-URL:https://www.pasda.org.uk
X-WR-CALDESC:Events for Pasda
REFRESH-INTERVAL;VALUE=DURATION:PT1H
X-Robots-Tag:noindex
X-PUBLISHED-TTL:PT1H
BEGIN:VTIMEZONE
TZID:UTC
BEGIN:STANDARD
TZOFFSETFROM:+0000
TZOFFSETTO:+0000
TZNAME:UTC
DTSTART:20220101T000000
END:STANDARD
END:VTIMEZONE
BEGIN:VEVENT
DTSTART;TZID=UTC:20230110T100000
DTEND;TZID=UTC:20230110T120000
DTSTAMP:20260421T121003
CREATED:20221222T045534Z
LAST-MODIFIED:20221222T045534Z
UID:8812-1673344800-1673352000@www.pasda.org.uk
SUMMARY:Pasda Carers Coffee Morning
DESCRIPTION:Join Cath Purdie  for a cuppa and some conversation at our next Pasda Carers Coffee Morning. Please email us to register your interest.
URL:https://www.pasda.org.uk/index.php/event/pasda-carers-coffee-morning-12-2/
LOCATION:Number 6\, 24 Hill Street\, Edinburgh\, EH2 3JZ\, United Kingdom
CATEGORIES:Coffee Morning
ORGANIZER;CN="The Pasda Team":MAILTO:info@pasda.org.uk
END:VEVENT
BEGIN:VEVENT
DTSTART;TZID=UTC:20230110T100000
DTEND;TZID=UTC:20230110T120000
DTSTAMP:20260421T121003
CREATED:20221222T045534Z
LAST-MODIFIED:20221222T045534Z
UID:7922-1673344800-1673352000@www.pasda.org.uk
SUMMARY:Pasda Carers Coffee Morning
DESCRIPTION:Join Cath Purdie for a cuppa and some conversation at our next Pasda Carers Coffee Morning. Please email us to register your interest.
URL:https://www.pasda.org.uk/index.php/event/pasda-carers-coffee-morning-12/
LOCATION:Number 6\, 24 Hill Street\, Edinburgh\, EH2 3JZ\, United Kingdom
CATEGORIES:Coffee Morning
ORGANIZER;CN="The Pasda Team":MAILTO:info@pasda.org.uk
END:VEVENT
BEGIN:VEVENT
DTSTART;TZID=UTC:20230118T190000
DTEND;TZID=UTC:20230118T203000
DTSTAMP:20260421T121003
CREATED:20221222T050505Z
LAST-MODIFIED:20221222T050505Z
UID:7926-1674068400-1674073800@www.pasda.org.uk
SUMMARY:Pasda East Lothian Carers Support Group
DESCRIPTION:Carers of autistic adults who reside in East Lothian are welcome join Cath Purdie for a cuppa and some conversation. Please email us to register your interest.
URL:https://www.pasda.org.uk/index.php/event/pasda-east-lothian-carers-support-group-5/
LOCATION:Fraser Centre\, 3 Winton Place\, Tranent\, EH33 1AF\, United Kingdom
CATEGORIES:Coffee Morning,East Lothian Carers Group
ORGANIZER;CN="The Pasda Team":MAILTO:info@pasda.org.uk
END:VEVENT
BEGIN:VEVENT
DTSTART;TZID=UTC:20230118T190000
DTEND;TZID=UTC:20230118T203000
DTSTAMP:20260421T121003
CREATED:20221222T050505Z
LAST-MODIFIED:20221222T050505Z
UID:8814-1674068400-1674073800@www.pasda.org.uk
SUMMARY:Pasda East Lothian Carers Support Group
DESCRIPTION:Carers  of autistic adults  who reside in East Lothian are welcome join Cath Purdie  for a cuppa and some conversation.  Please email us to register your interest.
URL:https://www.pasda.org.uk/index.php/event/pasda-east-lothian-carers-support-group-5-2/
LOCATION:Fraser Centre\, 3 Winton Place\, Tranent\, EH33 1AF\, United Kingdom
CATEGORIES:Coffee Morning,East Lothian Carers Group
ORGANIZER;CN="The Pasda Team":MAILTO:info@pasda.org.uk
END:VEVENT
BEGIN:VEVENT
DTSTART;TZID=UTC:20230128T100000
DTEND;TZID=UTC:20230128T120000
DTSTAMP:20260421T121003
CREATED:20221222T050007Z
LAST-MODIFIED:20221222T050007Z
UID:8813-1674900000-1674907200@www.pasda.org.uk
SUMMARY:Pasda Carers Saturday Coffee Morning
DESCRIPTION:Our monthly Saturday  coffee morning is open to all families and friends of autistic adults (over16 ) who reside across Edinburgh and the Lothians. \nIt is facilitated by Pasda Volunteer\, Marion Rodgers. Please email us to let us know you are coming along. \nWe meet at Hotel Indigo \, Princes Street\, Edinburgh  at the Library on the first floor.
URL:https://www.pasda.org.uk/index.php/event/pasda-carers-saturday-coffee-morning-2-2/
LOCATION:Hotel Indigo
CATEGORIES:Coffee Morning
ORGANIZER;CN="The Pasda Team":MAILTO:info@pasda.org.uk
END:VEVENT
BEGIN:VEVENT
DTSTART;TZID=UTC:20230128T100000
DTEND;TZID=UTC:20230128T120000
DTSTAMP:20260421T121003
CREATED:20221222T050007Z
LAST-MODIFIED:20221222T050007Z
UID:7924-1674900000-1674907200@www.pasda.org.uk
SUMMARY:Pasda Carers Saturday Coffee Morning
DESCRIPTION:Our monthly Saturday coffee morning is open to all families and friends of autistic adults (over16 ) who reside across Edinburgh and the Lothians. \nIt is facilitated by Pasda Volunteer\, Marion Rodgers. Please email us to let us know you are coming along. \nWe meet at Hotel Indigo \, Princes Street\, Edinburgh at the Library on the first floor.
URL:https://www.pasda.org.uk/index.php/event/pasda-carers-saturday-coffee-morning-2/
LOCATION:Hotel Indigo
CATEGORIES:Coffee Morning
ORGANIZER;CN="The Pasda Team":MAILTO:info@pasda.org.uk
END:VEVENT
END:VCALENDAR