BEGIN:VCALENDAR
VERSION:2.0
PRODID:-//Pasda - ECPv6.15.20//NONSGML v1.0//EN
CALSCALE:GREGORIAN
METHOD:PUBLISH
X-ORIGINAL-URL:https://www.pasda.org.uk
X-WR-CALDESC:Events for Pasda
REFRESH-INTERVAL;VALUE=DURATION:PT1H
X-Robots-Tag:noindex
X-PUBLISHED-TTL:PT1H
BEGIN:VTIMEZONE
TZID:UTC
BEGIN:STANDARD
TZOFFSETFROM:+0000
TZOFFSETTO:+0000
TZNAME:UTC
DTSTART:20220101T000000
END:STANDARD
END:VTIMEZONE
BEGIN:VEVENT
DTSTART;TZID=UTC:20230613T100000
DTEND;TZID=UTC:20230613T120000
DTSTAMP:20260421T032039
CREATED:20230207T115117Z
LAST-MODIFIED:20230207T115117Z
UID:7999-1686650400-1686657600@www.pasda.org.uk
SUMMARY:Pasda Carers Coffee Morning
DESCRIPTION:Join Cath Purdie for a cuppa and some conversation at our next Pasda Carers Coffee Morning. Please email us to register your interest. \nWe meet at Number 6\, 24 Hill Street in the Training Room on the first floor.
URL:https://www.pasda.org.uk/index.php/event/pasda-carers-coffee-morning-17/
LOCATION:24 Hill Street\, 24 Hill Street\, Edinburgh\, EH2 3JZ\, United Kingdom
CATEGORIES:Coffee Morning
ORGANIZER;CN="The Pasda Team":MAILTO:info@pasda.org.uk
END:VEVENT
BEGIN:VEVENT
DTSTART;TZID=UTC:20230613T100000
DTEND;TZID=UTC:20230613T120000
DTSTAMP:20260421T032039
CREATED:20230207T115117Z
LAST-MODIFIED:20230207T115117Z
UID:8825-1686650400-1686657600@www.pasda.org.uk
SUMMARY:Pasda Carers Coffee Morning
DESCRIPTION:Join Cath Purdie  for a cuppa and some conversation at our next Pasda Carers Coffee Morning. Please email us to register your interest. \nWe meet at Number 6\, 24 Hill Street in the Training Room on the first floor.
URL:https://www.pasda.org.uk/index.php/event/pasda-carers-coffee-morning-17-2/
LOCATION:24 Hill Street\, 24 Hill Street\, Edinburgh\, EH2 3JZ\, United Kingdom
CATEGORIES:Coffee Morning
ORGANIZER;CN="The Pasda Team":MAILTO:info@pasda.org.uk
END:VEVENT
BEGIN:VEVENT
DTSTART;TZID=UTC:20230623T080000
DTEND;TZID=UTC:20230623T170000
DTSTAMP:20260421T032039
CREATED:20230524T071618Z
LAST-MODIFIED:20230524T071618Z
UID:8837-1687507200-1687539600@www.pasda.org.uk
SUMMARY:West Lothian Coffee Morning
DESCRIPTION:This get together is for all carers in West Lothian who support an autistic adult (16 and over) family member . \nCome along and meet fellow parents and carers and have a cuppa and blether.
URL:https://www.pasda.org.uk/index.php/event/west-lothian-coffee-morning-4-2/
LOCATION:The Wintergarden Cafe\, Upper Level\, The Centre\, Livingston\, EH54 6HR
CATEGORIES:Coffee Morning
ORGANIZER;CN="The Pasda Team":MAILTO:info@pasda.org.uk
END:VEVENT
BEGIN:VEVENT
DTSTART;TZID=UTC:20230623T080000
DTEND;TZID=UTC:20230623T170000
DTSTAMP:20260421T032039
CREATED:20230524T071618Z
LAST-MODIFIED:20230526T121605Z
UID:8053-1687507200-1687539600@www.pasda.org.uk
SUMMARY:West Lothian Coffee Morning
DESCRIPTION:This get together is for all carers in West Lothian who support an autistic adult (16 and over) family member . \nCome along and meet fellow parents and carers and have a cuppa and blether.
URL:https://www.pasda.org.uk/index.php/event/west-lothian-coffee-morning-4/
LOCATION:The Wintergarden Cafe\, Upper Level\, The Centre\, Livingston\, EH54 6HR
CATEGORIES:Coffee Morning
ORGANIZER;CN="The Pasda Team":MAILTO:info@pasda.org.uk
END:VEVENT
BEGIN:VEVENT
DTSTART;TZID=UTC:20230624T100000
DTEND;TZID=UTC:20230624T120000
DTSTAMP:20260421T032039
CREATED:20230207T113252Z
LAST-MODIFIED:20230207T113252Z
UID:7984-1687600800-1687608000@www.pasda.org.uk
SUMMARY:Pasda Carers Saturday Coffee Morning
DESCRIPTION:Our monthly Saturday coffee morning is open to all families and friends of autistic adults (over16 ) who reside across Edinburgh and the Lothians. \nIt is facilitated by Pasda Volunteer\, Marion Rodgers. Please email us to let us know you are coming along. \nWe meet at Hotel Indigo \, Princes Street\, Edinburgh at the Library on the first floor.
URL:https://www.pasda.org.uk/index.php/event/pasda-carers-saturday-coffee-morning-6/
LOCATION:Hotel Indigo\, 20 Princes St\,\, Edinburgh\, EH2 2AN\, United Kingdom
CATEGORIES:Coffee Morning
ORGANIZER;CN="The Pasda Team":MAILTO:info@pasda.org.uk
END:VEVENT
BEGIN:VEVENT
DTSTART;TZID=UTC:20230624T100000
DTEND;TZID=UTC:20230624T120000
DTSTAMP:20260421T032039
CREATED:20230207T113252Z
LAST-MODIFIED:20230207T113252Z
UID:8819-1687600800-1687608000@www.pasda.org.uk
SUMMARY:Pasda Carers Saturday Coffee Morning
DESCRIPTION:Our monthly Saturday  coffee morning is open to all families and friends of autistic adults (over16 ) who reside across Edinburgh and the Lothians. \nIt is facilitated by Pasda Volunteer\, Marion Rodgers. Please email us to let us know you are coming along. \nWe meet at Hotel Indigo \, Princes Street\, Edinburgh  at the Library on the first floor.
URL:https://www.pasda.org.uk/index.php/event/pasda-carers-saturday-coffee-morning-6-2/
LOCATION:Hotel Indigo\, 20 Princes St\,\, Edinburgh\, EH2 2AN\, United Kingdom
CATEGORIES:Coffee Morning
ORGANIZER;CN="The Pasda Team":MAILTO:info@pasda.org.uk
END:VEVENT
END:VCALENDAR