BEGIN:VCALENDAR
VERSION:2.0
PRODID:-//Pasda - ECPv6.15.20//NONSGML v1.0//EN
CALSCALE:GREGORIAN
METHOD:PUBLISH
X-WR-CALNAME:Pasda
X-ORIGINAL-URL:https://www.pasda.org.uk
X-WR-CALDESC:Events for Pasda
REFRESH-INTERVAL;VALUE=DURATION:PT1H
X-Robots-Tag:noindex
X-PUBLISHED-TTL:PT1H
BEGIN:VTIMEZONE
TZID:UTC
BEGIN:STANDARD
TZOFFSETFROM:+0000
TZOFFSETTO:+0000
TZNAME:UTC
DTSTART:20230101T000000
END:STANDARD
END:VTIMEZONE
BEGIN:VEVENT
DTSTART;TZID=UTC:20240109T100000
DTEND;TZID=UTC:20240109T120000
DTSTAMP:20260420T140945
CREATED:20231218T180335Z
LAST-MODIFIED:20231218T180335Z
UID:8863-1704794400-1704801600@www.pasda.org.uk
SUMMARY:Pasda Coffee Morning
DESCRIPTION:Join us  for a cuppa and some conversation at our next Pasda Carers Coffee Morning. It will facilitated by Tom and Sheila Wightman. \nResident therapist will be available to give members a mini hand/arm  or neck/ shoulder massage. \nWe meet at Number 6\, 24 Hill Street\, Edinburgh  in the Training Room on the first floor. \nIf you have not been before and would like to attend please email us at info@pasda.org.uk for more information.
URL:https://www.pasda.org.uk/index.php/event/pasda-coffee-morning-5-2/
LOCATION:Number 6\, 24 Hill Street\, Edinburgh\, EH2 3JZ\, United Kingdom
CATEGORIES:Coffee Morning
ORGANIZER;CN="The Pasda Team":MAILTO:info@pasda.org.uk
END:VEVENT
BEGIN:VEVENT
DTSTART;TZID=UTC:20240109T100000
DTEND;TZID=UTC:20240109T120000
DTSTAMP:20260420T140945
CREATED:20231218T180335Z
LAST-MODIFIED:20231218T180335Z
UID:8149-1704794400-1704801600@www.pasda.org.uk
SUMMARY:Pasda Coffee Morning
DESCRIPTION:Join us for a cuppa and some conversation at our next Pasda Carers Coffee Morning. It will facilitated by Tom and Sheila Wightman. \nResident therapist will be available to give members a mini hand/arm or neck/ shoulder massage. \nWe meet at Number 6\, 24 Hill Street\, Edinburgh in the Training Room on the first floor. \nIf you have not been before and would like to attend please email us at info@pasda.org.uk for more information.
URL:https://www.pasda.org.uk/index.php/event/pasda-coffee-morning-5/
LOCATION:Number 6\, 24 Hill Street\, Edinburgh\, EH2 3JZ\, United Kingdom
CATEGORIES:Coffee Morning
ORGANIZER;CN="The Pasda Team":MAILTO:info@pasda.org.uk
END:VEVENT
BEGIN:VEVENT
DTSTART;TZID=UTC:20240127T080000
DTEND;TZID=UTC:20240127T170000
DTSTAMP:20260420T140945
CREATED:20231218T180955Z
LAST-MODIFIED:20231218T180955Z
UID:8865-1706342400-1706374800@www.pasda.org.uk
SUMMARY:Pasda Saturday Coffee Morning
DESCRIPTION:Our monthly Saturday  coffee morning is open to all families and friends of autistic adults (over16 ) who reside across Edinburgh and the Lothians. \nIt is facilitated by Pasda Volunteer\, Marion Rodgers. Please email us to let us know you are coming along. \nWe meet at  the Library Room at Juniper within Hotel Indigo \, Princes Street\, Edinburgh . It is situated  on the first floor.
URL:https://www.pasda.org.uk/index.php/event/pasda-saturday-coffee-morning-3-2/
LOCATION:Hotel Indigo
CATEGORIES:Coffee Morning
ORGANIZER;CN="The Pasda Team":MAILTO:info@pasda.org.uk
END:VEVENT
BEGIN:VEVENT
DTSTART;TZID=UTC:20240127T080000
DTEND;TZID=UTC:20240127T170000
DTSTAMP:20260420T140945
CREATED:20231218T180955Z
LAST-MODIFIED:20231218T180955Z
UID:8153-1706342400-1706374800@www.pasda.org.uk
SUMMARY:Pasda Saturday Coffee Morning
DESCRIPTION:Our monthly Saturday coffee morning is open to all families and friends of autistic adults (over16 ) who reside across Edinburgh and the Lothians. \nIt is facilitated by Pasda Volunteer\, Marion Rodgers. Please email us to let us know you are coming along. \nWe meet at the Library Room at Juniper within Hotel Indigo \, Princes Street\, Edinburgh . It is situated on the first floor.
URL:https://www.pasda.org.uk/index.php/event/pasda-saturday-coffee-morning-3/
LOCATION:Hotel Indigo
CATEGORIES:Coffee Morning
ORGANIZER;CN="The Pasda Team":MAILTO:info@pasda.org.uk
END:VEVENT
END:VCALENDAR