BEGIN:VCALENDAR
VERSION:2.0
PRODID:-//Pasda - ECPv6.15.20//NONSGML v1.0//EN
CALSCALE:GREGORIAN
METHOD:PUBLISH
X-ORIGINAL-URL:https://www.pasda.org.uk
X-WR-CALDESC:Events for Pasda
REFRESH-INTERVAL;VALUE=DURATION:PT1H
X-Robots-Tag:noindex
X-PUBLISHED-TTL:PT1H
BEGIN:VTIMEZONE
TZID:UTC
BEGIN:STANDARD
TZOFFSETFROM:+0000
TZOFFSETTO:+0000
TZNAME:UTC
DTSTART:20220101T000000
END:STANDARD
END:VTIMEZONE
BEGIN:VEVENT
DTSTART;TZID=UTC:20230314T100000
DTEND;TZID=UTC:20230314T120000
DTSTAMP:20260421T103507
CREATED:20230207T114407Z
LAST-MODIFIED:20230207T114407Z
UID:8822-1678788000-1678795200@www.pasda.org.uk
SUMMARY:Pasda Carers Coffee Morning
DESCRIPTION:Join Cath Purdie  for a cuppa and some conversation at our next Pasda Carers Coffee Morning. Please email us to register your interest. \nWe meet at Number 6\, 24 Hill Street in the Training Room on the first floor. \nThis month Zoe McIntyre from Lothian Centre for Inclusive Living will be our guest.
URL:https://www.pasda.org.uk/index.php/event/pasda-carers-coffee-morning-14-2/
LOCATION:24 Hill Street\, 24 Hill Street\, Edinburgh\, EH2 3JZ\, United Kingdom
CATEGORIES:Coffee Morning
ORGANIZER;CN="The Pasda Team":MAILTO:info@pasda.org.uk
END:VEVENT
BEGIN:VEVENT
DTSTART;TZID=UTC:20230314T100000
DTEND;TZID=UTC:20230314T120000
DTSTAMP:20260421T103507
CREATED:20230207T114407Z
LAST-MODIFIED:20230207T114407Z
UID:7992-1678788000-1678795200@www.pasda.org.uk
SUMMARY:Pasda Carers Coffee Morning
DESCRIPTION:Join Cath Purdie for a cuppa and some conversation at our next Pasda Carers Coffee Morning. Please email us to register your interest. \nWe meet at Number 6\, 24 Hill Street in the Training Room on the first floor. \nThis month Zoe McIntyre from Lothian Centre for Inclusive Living will be our guest.
URL:https://www.pasda.org.uk/index.php/event/pasda-carers-coffee-morning-14/
LOCATION:24 Hill Street\, 24 Hill Street\, Edinburgh\, EH2 3JZ\, United Kingdom
CATEGORIES:Coffee Morning
ORGANIZER;CN="The Pasda Team":MAILTO:info@pasda.org.uk
END:VEVENT
END:VCALENDAR