BEGIN:VCALENDAR
VERSION:2.0
PRODID:-//Pasda - ECPv6.15.20//NONSGML v1.0//EN
CALSCALE:GREGORIAN
METHOD:PUBLISH
X-WR-CALNAME:Pasda
X-ORIGINAL-URL:https://www.pasda.org.uk
X-WR-CALDESC:Events for Pasda
REFRESH-INTERVAL;VALUE=DURATION:PT1H
X-Robots-Tag:noindex
X-PUBLISHED-TTL:PT1H
BEGIN:VTIMEZONE
TZID:UTC
BEGIN:STANDARD
TZOFFSETFROM:+0000
TZOFFSETTO:+0000
TZNAME:UTC
DTSTART:20220101T000000
END:STANDARD
END:VTIMEZONE
BEGIN:VEVENT
DTSTART;TZID=UTC:20230722T100000
DTEND;TZID=UTC:20230722T120000
DTSTAMP:20260421T032100
CREATED:20230207T113421Z
LAST-MODIFIED:20230207T113421Z
UID:7986-1690020000-1690027200@www.pasda.org.uk
SUMMARY:Pasda Carers Saturday Coffee Morning
DESCRIPTION:Our monthly Saturday coffee morning is open to all families and friends of autistic adults (over16 ) who reside across Edinburgh and the Lothians. \nIt is facilitated by Pasda Volunteer\, Marion Rodgers. Please email us to let us know you are coming along. \nWe meet at Hotel Indigo \, Princes Street\, Edinburgh at the Library on the first floor.
URL:https://www.pasda.org.uk/index.php/event/pasda-carers-saturday-coffee-morning-7/
LOCATION:Hotel Indigo\, 20 Princes St\,\, Edinburgh\, EH2 2AN\, United Kingdom
CATEGORIES:Coffee Morning
ORGANIZER;CN="The Pasda Team":MAILTO:info@pasda.org.uk
END:VEVENT
BEGIN:VEVENT
DTSTART;TZID=UTC:20230722T100000
DTEND;TZID=UTC:20230722T120000
DTSTAMP:20260421T032100
CREATED:20230207T113421Z
LAST-MODIFIED:20230207T113421Z
UID:8820-1690020000-1690027200@www.pasda.org.uk
SUMMARY:Pasda Carers Saturday Coffee Morning
DESCRIPTION:Our monthly Saturday  coffee morning is open to all families and friends of autistic adults (over16 ) who reside across Edinburgh and the Lothians. \nIt is facilitated by Pasda Volunteer\, Marion Rodgers. Please email us to let us know you are coming along. \nWe meet at Hotel Indigo \, Princes Street\, Edinburgh  at the Library on the first floor.
URL:https://www.pasda.org.uk/index.php/event/pasda-carers-saturday-coffee-morning-7-2/
LOCATION:Hotel Indigo\, 20 Princes St\,\, Edinburgh\, EH2 2AN\, United Kingdom
CATEGORIES:Coffee Morning
ORGANIZER;CN="The Pasda Team":MAILTO:info@pasda.org.uk
END:VEVENT
END:VCALENDAR