BEGIN:VCALENDAR
VERSION:2.0
PRODID:-//Pasda - ECPv6.15.20//NONSGML v1.0//EN
CALSCALE:GREGORIAN
METHOD:PUBLISH
X-WR-CALNAME:Pasda
X-ORIGINAL-URL:https://www.pasda.org.uk
X-WR-CALDESC:Events for Pasda
REFRESH-INTERVAL;VALUE=DURATION:PT1H
X-Robots-Tag:noindex
X-PUBLISHED-TTL:PT1H
BEGIN:VTIMEZONE
TZID:UTC
BEGIN:STANDARD
TZOFFSETFROM:+0000
TZOFFSETTO:+0000
TZNAME:UTC
DTSTART:20220101T000000
END:STANDARD
END:VTIMEZONE
BEGIN:VEVENT
DTSTART;TZID=UTC:20230728T103000
DTEND;TZID=UTC:20230728T120000
DTSTAMP:20260421T032037
CREATED:20230626T120849Z
LAST-MODIFIED:20230626T120849Z
UID:8069-1690540200-1690545600@www.pasda.org.uk
SUMMARY:West Lothian Coffee Morning
DESCRIPTION:This get together is for all carers in West Lothian who support an autistic adult (16 and over) family member . \nCome along and meet fellow parents and carers and have a cuppa and blether.
URL:https://www.pasda.org.uk/index.php/event/west-lothian-coffee-morning-5/
LOCATION:The Wintergarden Cafe\, Upper Level\, The Centre\, Livingston\, EH54 6HR
CATEGORIES:Coffee Morning
ORGANIZER;CN="The Pasda Team":MAILTO:info@pasda.org.uk
END:VEVENT
BEGIN:VEVENT
DTSTART;TZID=UTC:20230728T103000
DTEND;TZID=UTC:20230728T120000
DTSTAMP:20260421T032037
CREATED:20230626T120849Z
LAST-MODIFIED:20230626T120849Z
UID:8839-1690540200-1690545600@www.pasda.org.uk
SUMMARY:West Lothian Coffee Morning
DESCRIPTION:This get together is for all carers in West Lothian who support an autistic adult (16 and over) family member . \nCome along and meet fellow parents and carers and have a cuppa and blether.
URL:https://www.pasda.org.uk/index.php/event/west-lothian-coffee-morning-5-2/
LOCATION:The Wintergarden Cafe\, Upper Level\, The Centre\, Livingston\, EH54 6HR
CATEGORIES:Coffee Morning
ORGANIZER;CN="The Pasda Team":MAILTO:info@pasda.org.uk
END:VEVENT
END:VCALENDAR