BEGIN:VCALENDAR
VERSION:2.0
PRODID:-//Pasda - ECPv6.15.20//NONSGML v1.0//EN
CALSCALE:GREGORIAN
METHOD:PUBLISH
X-ORIGINAL-URL:https://www.pasda.org.uk
X-WR-CALDESC:Events for Pasda
REFRESH-INTERVAL;VALUE=DURATION:PT1H
X-Robots-Tag:noindex
X-PUBLISHED-TTL:PT1H
BEGIN:VTIMEZONE
TZID:UTC
BEGIN:STANDARD
TZOFFSETFROM:+0000
TZOFFSETTO:+0000
TZNAME:UTC
DTSTART:20220101T000000
END:STANDARD
END:VTIMEZONE
BEGIN:VEVENT
DTSTART;TZID=UTC:20230912T080000
DTEND;TZID=UTC:20230912T170000
DTSTAMP:20260420T233851
CREATED:20230821T101521Z
LAST-MODIFIED:20230821T101521Z
UID:8097-1694505600-1694538000@www.pasda.org.uk
SUMMARY:Pasda Coffee Morning
DESCRIPTION:Join Cath Purdie for a cuppa and some conversation at our next Pasda Carers Coffee Morning. This month Kathleen Taylor from the Mental Welfare Commission will be our guest. \nPlease email us to register your interest. \nWe meet at Number 6\, 24 Hill Street\, Edinburgh in the Training Room on the first floor.
URL:https://www.pasda.org.uk/index.php/event/pasda-coffee-morning/
LOCATION:Number 6\, 24 Hill Street\, Edinburgh\, EH2 3JZ\, United Kingdom
CATEGORIES:Coffee Morning
ORGANIZER;CN="The Pasda Team":MAILTO:info@pasda.org.uk
END:VEVENT
BEGIN:VEVENT
DTSTART;TZID=UTC:20230912T080000
DTEND;TZID=UTC:20230912T170000
DTSTAMP:20260420T233851
CREATED:20230821T101521Z
LAST-MODIFIED:20230821T101521Z
UID:8850-1694505600-1694538000@www.pasda.org.uk
SUMMARY:Pasda Coffee Morning
DESCRIPTION:Join Cath Purdie  for a cuppa and some conversation at our next Pasda Carers Coffee Morning. This month Kathleen Taylor from the Mental Welfare Commission  will be our guest. \nPlease email us to register your interest. \nWe meet at Number 6\, 24 Hill Street\, Edinburgh  in the Training Room on the first floor.
URL:https://www.pasda.org.uk/index.php/event/pasda-coffee-morning-6/
LOCATION:Number 6\, 24 Hill Street\, Edinburgh\, EH2 3JZ\, United Kingdom
CATEGORIES:Coffee Morning
ORGANIZER;CN="The Pasda Team":MAILTO:info@pasda.org.uk
END:VEVENT
END:VCALENDAR