BEGIN:VCALENDAR
VERSION:2.0
PRODID:-//Pasda - ECPv6.15.20//NONSGML v1.0//EN
CALSCALE:GREGORIAN
METHOD:PUBLISH
X-ORIGINAL-URL:https://www.pasda.org.uk
X-WR-CALDESC:Events for Pasda
REFRESH-INTERVAL;VALUE=DURATION:PT1H
X-Robots-Tag:noindex
X-PUBLISHED-TTL:PT1H
BEGIN:VTIMEZONE
TZID:UTC
BEGIN:STANDARD
TZOFFSETFROM:+0000
TZOFFSETTO:+0000
TZNAME:UTC
DTSTART:20220101T000000
END:STANDARD
END:VTIMEZONE
BEGIN:VEVENT
DTSTART;TZID=UTC:20231028T100000
DTEND;TZID=UTC:20231028T120000
DTSTAMP:20260420T213008
CREATED:20230821T100722Z
LAST-MODIFIED:20230821T100722Z
UID:8091-1698487200-1698494400@www.pasda.org.uk
SUMMARY:Pasda Saturday Coffee Morning
DESCRIPTION:Our monthly Saturday coffee morning is open to all families and friends of autistic adults (over16 ) who reside across Edinburgh and the Lothians. \nIt is facilitated by Pasda Volunteer\, Marion Rodgers. Please email us to let us know you are coming along. \nWe meet at the Library Room at Juniper within Hotel Indigo \, Princes Street\, Edinburgh . It is situated on the first floor.
URL:https://www.pasda.org.uk/index.php/event/pasda-saturday-coffee-morning/
LOCATION:Hotel Indigo
CATEGORIES:Coffee Morning
ORGANIZER;CN="The Pasda Team":MAILTO:info@pasda.org.uk
END:VEVENT
BEGIN:VEVENT
DTSTART;TZID=UTC:20231028T100000
DTEND;TZID=UTC:20231028T120000
DTSTAMP:20260420T213008
CREATED:20230821T100722Z
LAST-MODIFIED:20230821T100722Z
UID:8847-1698487200-1698494400@www.pasda.org.uk
SUMMARY:Pasda Saturday Coffee Morning
DESCRIPTION:Our monthly Saturday  coffee morning is open to all families and friends of autistic adults (over16 ) who reside across Edinburgh and the Lothians. \nIt is facilitated by Pasda Volunteer\, Marion Rodgers. Please email us to let us know you are coming along. \nWe meet at  the Library Room at Juniper within Hotel Indigo \, Princes Street\, Edinburgh . It is situated  on the first floor.
URL:https://www.pasda.org.uk/index.php/event/pasda-saturday-coffee-morning-4/
LOCATION:Hotel Indigo
CATEGORIES:Coffee Morning
ORGANIZER;CN="The Pasda Team":MAILTO:info@pasda.org.uk
END:VEVENT
END:VCALENDAR