BEGIN:VCALENDAR
VERSION:2.0
PRODID:-//Pasda - ECPv6.15.20//NONSGML v1.0//EN
CALSCALE:GREGORIAN
METHOD:PUBLISH
X-WR-CALNAME:Pasda
X-ORIGINAL-URL:https://www.pasda.org.uk
X-WR-CALDESC:Events for Pasda
REFRESH-INTERVAL;VALUE=DURATION:PT1H
X-Robots-Tag:noindex
X-PUBLISHED-TTL:PT1H
BEGIN:VTIMEZONE
TZID:UTC
BEGIN:STANDARD
TZOFFSETFROM:+0000
TZOFFSETTO:+0000
TZNAME:UTC
DTSTART:20170101T000000
END:STANDARD
END:VTIMEZONE
BEGIN:VEVENT
DTSTART;TZID=UTC:20181122T183000
DTEND;TZID=UTC:20181122T200000
DTSTAMP:20260426T040707
CREATED:20181030T095947Z
LAST-MODIFIED:20181030T095947Z
UID:6632-1542911400-1542916800@www.pasda.org.uk
SUMMARY:EastLothian Carers Group
DESCRIPTION:This group is facilitated by Cath Purdie. We welcome new carers who live in East Lothian and support a family or friend (adult) on the autistic spectrum.
URL:https://www.pasda.org.uk/index.php/event/eastlothian-carers-group/
LOCATION:The Brunton\, Ladywell Way\, Musselburgh\, EH21 6AA
CATEGORIES:East Lothian Carers Group
END:VEVENT
BEGIN:VEVENT
DTSTART;TZID=UTC:20181122T183000
DTEND;TZID=UTC:20181122T200000
DTSTAMP:20260426T040707
CREATED:20181030T095947Z
LAST-MODIFIED:20181030T095947Z
UID:8670-1542911400-1542916800@www.pasda.org.uk
SUMMARY:EastLothian Carers Group
DESCRIPTION:This group is facilitated by Cath Purdie. We welcome new carers who live in East Lothian and support a family or friend (adult) on the autistic spectrum.
URL:https://www.pasda.org.uk/index.php/event/eastlothian-carers-group-2/
LOCATION:The Brunton\, Ladywell Way\, Musselburgh\, EH21 6AA
CATEGORIES:East Lothian Carers Group
END:VEVENT
END:VCALENDAR