BEGIN:VCALENDAR
VERSION:2.0
PRODID:-//Pasda - ECPv6.15.20//NONSGML v1.0//EN
CALSCALE:GREGORIAN
METHOD:PUBLISH
X-WR-CALNAME:Pasda
X-ORIGINAL-URL:https://www.pasda.org.uk
X-WR-CALDESC:Events for Pasda
REFRESH-INTERVAL;VALUE=DURATION:PT1H
X-Robots-Tag:noindex
X-PUBLISHED-TTL:PT1H
BEGIN:VTIMEZONE
TZID:UTC
BEGIN:STANDARD
TZOFFSETFROM:+0000
TZOFFSETTO:+0000
TZNAME:UTC
DTSTART:20220101T000000
END:STANDARD
END:VTIMEZONE
BEGIN:VEVENT
DTSTART;TZID=UTC:20230215T190000
DTEND;TZID=UTC:20230215T203000
DTSTAMP:20260423T011212
CREATED:20230207T120500Z
LAST-MODIFIED:20230207T120500Z
UID:8005-1676487600-1676493000@www.pasda.org.uk
SUMMARY:Pasda East Lothian Carers Support Group
DESCRIPTION:Carers of autistic adults who reside in East Lothian are welcome join Cath Purdie for a cuppa and some conversation. \nWe meet at the Fraser Centre in Tranent. \nPlease email us to register your interest.
URL:https://www.pasda.org.uk/index.php/event/pasda-east-lothian-carers-support-group-6/
LOCATION:Fraser Centre\, 3 Winton Place\, Tranent\, EH33 1AF\, United Kingdom
CATEGORIES:East Lothian Carers Group
END:VEVENT
BEGIN:VEVENT
DTSTART;TZID=UTC:20230215T190000
DTEND;TZID=UTC:20230215T203000
DTSTAMP:20260423T011212
CREATED:20230207T120500Z
LAST-MODIFIED:20230207T120500Z
UID:8827-1676487600-1676493000@www.pasda.org.uk
SUMMARY:Pasda East Lothian Carers Support Group
DESCRIPTION:Carers  of autistic adults  who reside in East Lothian are welcome join Cath Purdie  for a cuppa and some conversation. \nWe meet at the Fraser Centre in Tranent. \nPlease email us to register your interest.
URL:https://www.pasda.org.uk/index.php/event/pasda-east-lothian-carers-support-group-6-2/
LOCATION:Fraser Centre\, 3 Winton Place\, Tranent\, EH33 1AF\, United Kingdom
CATEGORIES:East Lothian Carers Group
END:VEVENT
END:VCALENDAR