BEGIN:VCALENDAR
VERSION:2.0
PRODID:-//Pasda - ECPv6.15.20//NONSGML v1.0//EN
CALSCALE:GREGORIAN
METHOD:PUBLISH
X-WR-CALNAME:Pasda
X-ORIGINAL-URL:https://www.pasda.org.uk
X-WR-CALDESC:Events for Pasda
REFRESH-INTERVAL;VALUE=DURATION:PT1H
X-Robots-Tag:noindex
X-PUBLISHED-TTL:PT1H
BEGIN:VTIMEZONE
TZID:UTC
BEGIN:STANDARD
TZOFFSETFROM:+0000
TZOFFSETTO:+0000
TZNAME:UTC
DTSTART:20220101T000000
END:STANDARD
END:VTIMEZONE
BEGIN:VEVENT
DTSTART;TZID=UTC:20260415T190000
DTEND;TZID=UTC:20260415T203000
DTSTAMP:20260420T093517
CREATED:20260313T105344Z
LAST-MODIFIED:20260313T105344Z
UID:9322-1776279600-1776285000@www.pasda.org.uk
SUMMARY:East Lothian Support Group
DESCRIPTION:A member of our Board of Trustees  will be facilitating  for this  event at the Fraser Centre\, Tranent.East Lothian. \nIf you have not been before and would like to attend \, please email us at Info@pasda.org.uk for more information
URL:https://www.pasda.org.uk/index.php/event/east-lothian-support-group-15/
LOCATION:Fraser Centre\, 3 Winton Place\, Tranent\, EH33 1AF\, United Kingdom
CATEGORIES:East Lothian Carers Group
ORGANIZER;CN="The Pasda Team":MAILTO:info@pasda.org.uk
END:VEVENT
BEGIN:VEVENT
DTSTART;TZID=UTC:20260318T190000
DTEND;TZID=UTC:20260318T203000
DTSTAMP:20260420T093517
CREATED:20260216T102251Z
LAST-MODIFIED:20260216T102251Z
UID:9295-1773860400-1773865800@www.pasda.org.uk
SUMMARY:East Lothian Support Group
DESCRIPTION:A member of our Board of Trustees  will be facilitating  for this  event at the Fraser Centre\, Tranent.East Lothian. \nIf you have not been before and would like to attend \, please email us at Info@pasda.org.uk for more information
URL:https://www.pasda.org.uk/index.php/event/east-lothian-support-group-14/
LOCATION:Fraser Centre\, 3 Winton Place\, Tranent\, EH33 1AF\, United Kingdom
CATEGORIES:East Lothian Carers Group
ORGANIZER;CN="The Pasda Team":MAILTO:info@pasda.org.uk
END:VEVENT
BEGIN:VEVENT
DTSTART;TZID=UTC:20260218T190000
DTEND;TZID=UTC:20260218T203000
DTSTAMP:20260420T093517
CREATED:20260119T114243Z
LAST-MODIFIED:20260119T114243Z
UID:9277-1771441200-1771446600@www.pasda.org.uk
SUMMARY:East Lothian Support Group
DESCRIPTION:A member of our Board of Trustees  will be facilitating  for this  event at the Fraser Centre\, Tranent.East Lothian. \nIf you have not been before and would like to attend \, please email us at Info@pasda.org.uk for more information
URL:https://www.pasda.org.uk/index.php/event/east-lothian-support-group-13/
LOCATION:Fraser Centre\, 3 Winton Place\, Tranent\, EH33 1AF\, United Kingdom
CATEGORIES:East Lothian Carers Group
ORGANIZER;CN="The Pasda Team":MAILTO:info@pasda.org.uk
END:VEVENT
BEGIN:VEVENT
DTSTART;TZID=UTC:20260121T190000
DTEND;TZID=UTC:20260121T203000
DTSTAMP:20260420T093517
CREATED:20251222T121305Z
LAST-MODIFIED:20251222T121305Z
UID:9266-1769022000-1769027400@www.pasda.org.uk
SUMMARY:East Lothian Support Group
DESCRIPTION:A member of our Board of Trustees  will be facilitating  for this  event at the Fraser Centre\, Tranent.East Lothian. \nIf you have not been before and would like to attend \, please email us at Info@pasda.org.uk for more information
URL:https://www.pasda.org.uk/index.php/event/east-lothian-support-group-12/
LOCATION:Fraser Centre\, 3 Winton Place\, Tranent\, EH33 1AF\, United Kingdom
CATEGORIES:East Lothian Carers Group
ORGANIZER;CN="The Pasda Team":MAILTO:info@pasda.org.uk
END:VEVENT
BEGIN:VEVENT
DTSTART;TZID=UTC:20251119T190000
DTEND;TZID=UTC:20251119T203000
DTSTAMP:20260420T093517
CREATED:20251030T083313Z
LAST-MODIFIED:20251030T083313Z
UID:9252-1763578800-1763584200@www.pasda.org.uk
SUMMARY:East Lothian Support Group
DESCRIPTION:A member of our Board of Trustees  will be facilitating  for this  event at the Fraser Centre\, Tranent.East Lothian. \nIf you have not been before and would like to attend \, please email us at Info@pasda.org.uk for more information
URL:https://www.pasda.org.uk/index.php/event/east-lothian-support-group-11/
LOCATION:Fraser Centre\, 3 Winton Place\, Tranent\, EH33 1AF\, United Kingdom
CATEGORIES:East Lothian Carers Group
ORGANIZER;CN="The Pasda Team":MAILTO:info@pasda.org.uk
END:VEVENT
BEGIN:VEVENT
DTSTART;TZID=UTC:20251015T190000
DTEND;TZID=UTC:20251015T203000
DTSTAMP:20260420T093517
CREATED:20250926T063625Z
LAST-MODIFIED:20250926T063625Z
UID:9232-1760554800-1760560200@www.pasda.org.uk
SUMMARY:East Lothian Support Group
DESCRIPTION:A member of our Board of Trustees  will be facilitating  for this  event at the Fraser Centre\, Tranent.East Lothian. \nIf you have not been before and would like to attend \, please email us at Info@pasda.org.uk for more information
URL:https://www.pasda.org.uk/index.php/event/east-lothian-support-group-10/
LOCATION:Fraser Centre\, 3 Winton Place\, Tranent\, EH33 1AF\, United Kingdom
CATEGORIES:East Lothian Carers Group
ORGANIZER;CN="The Pasda Team":MAILTO:info@pasda.org.uk
END:VEVENT
BEGIN:VEVENT
DTSTART;TZID=UTC:20250917T190000
DTEND;TZID=UTC:20250917T203000
DTSTAMP:20260420T093517
CREATED:20250724T141721Z
LAST-MODIFIED:20250724T141721Z
UID:9207-1758135600-1758141000@www.pasda.org.uk
SUMMARY:East Lothian Support Group
DESCRIPTION:A member of our Board of Trustees  will be facilitating  for this  event at the Fraser Centre\, Tranent.East Lothian. \nIf you have not been before and would like to attend \, please email us at Info@pasda.org.uk for more information
URL:https://www.pasda.org.uk/index.php/event/east-lothian-support-group-9/
LOCATION:Fraser Centre\, 3 Winton Place\, Tranent\, EH33 1AF\, United Kingdom
CATEGORIES:East Lothian Carers Group
ORGANIZER;CN="The Pasda Team":MAILTO:info@pasda.org.uk
END:VEVENT
BEGIN:VEVENT
DTSTART;TZID=UTC:20250716T190000
DTEND;TZID=UTC:20250716T203000
DTSTAMP:20260420T093517
CREATED:20250527T193833Z
LAST-MODIFIED:20250527T193833Z
UID:9177-1752692400-1752697800@www.pasda.org.uk
SUMMARY:East Lothian Support Group Meeting
DESCRIPTION:Carers  of autistic adults  who reside in East Lothian are welcome join us . \nA member of our Board of Trustees  will be facilitating  for this  event at the Fraser Centre\, Tranent.East Lothian. \nIf you have not been before and would like to attend \, please email us at Info@pasda.org.uk for more information
URL:https://www.pasda.org.uk/index.php/event/east-lothian-support-group-meeting-2/
LOCATION:Fraser Centre\, 3 Winton Place\, Tranent\, EH33 1AF\, United Kingdom
CATEGORIES:East Lothian Carers Group
ORGANIZER;CN="The Pasda Team":MAILTO:info@pasda.org.uk
END:VEVENT
BEGIN:VEVENT
DTSTART;TZID=UTC:20250618T190000
DTEND;TZID=UTC:20250618T203000
DTSTAMP:20260420T093517
CREATED:20250519T151208Z
LAST-MODIFIED:20250519T151208Z
UID:9156-1750273200-1750278600@www.pasda.org.uk
SUMMARY:East Lothian Support Group Meeting
DESCRIPTION:Carers  of autistic adults  who reside in East Lothian are welcome join us . \nA member of our Board of Trustees  will be facilitating  for this  event at the Fraser Centre\, Tranent.East Lothian. \nIf you have not been before and would like to attend \, please email us at Info@pasda.org.uk for more information
URL:https://www.pasda.org.uk/index.php/event/east-lothian-support-group-meeting/
LOCATION:Fraser Centre\, 3 Winton Place\, Tranent\, EH33 1AF\, United Kingdom
CATEGORIES:East Lothian Carers Group
ORGANIZER;CN="The Pasda Team":MAILTO:info@pasda.org.uk
END:VEVENT
BEGIN:VEVENT
DTSTART;TZID=UTC:20250521T190000
DTEND;TZID=UTC:20250521T203000
DTSTAMP:20260420T093517
CREATED:20250417T133951Z
LAST-MODIFIED:20250519T152746Z
UID:9133-1747854000-1747859400@www.pasda.org.uk
SUMMARY:Pasda East Lothian Carers Group
DESCRIPTION:Carers  of autistic adults  who reside in East Lothian are welcome join us . \nWe  meet at the Fraser Centre in Tranent\, East Lothian. \nIf you have not been before and would like to attend \, please email us at Info@pasda.org.uk for more information
URL:https://www.pasda.org.uk/index.php/event/pasda-east-lothian-carers-group-4/
LOCATION:Fraser Centre\, 3 Winton Place\, Tranent\, EH33 1AF\, United Kingdom
CATEGORIES:East Lothian Carers Group
ORGANIZER;CN="The Pasda Team":MAILTO:info@pasda.org.uk
END:VEVENT
BEGIN:VEVENT
DTSTART;TZID=UTC:20250416T190000
DTEND;TZID=UTC:20250416T203000
DTSTAMP:20260420T093517
CREATED:20250312T140220Z
LAST-MODIFIED:20250312T140220Z
UID:9111-1744830000-1744835400@www.pasda.org.uk
SUMMARY:Pasda East Lothian Carers Group
DESCRIPTION:Carers  of autistic adults  who reside in East Lothian are welcome join us . \nWe  meet at the Fraser Centre in Tranent\, East Lothian. This group is facilitated by Sarah Cornelius. \nIf you have not been before and would like to attend \, please email us at Info@pasda.org.uk for more information
URL:https://www.pasda.org.uk/index.php/event/pasda-east-lothian-carers-group-3/
LOCATION:Fraser Centre\, 3 Winton Place\, Tranent\, EH33 1AF\, United Kingdom
CATEGORIES:East Lothian Carers Group
ORGANIZER;CN="The Pasda Team":MAILTO:info@pasda.org.uk
END:VEVENT
BEGIN:VEVENT
DTSTART;TZID=UTC:20250319T190000
DTEND;TZID=UTC:20250319T203000
DTSTAMP:20260420T093517
CREATED:20250225T142912Z
LAST-MODIFIED:20250225T142942Z
UID:9082-1742410800-1742416200@www.pasda.org.uk
SUMMARY:Pasda East Lothian Carers Group
DESCRIPTION:Carers  of autistic adults  who reside in East Lothian are welcome join us . \nWe  meet at the Fraser Centre in Tranent\, East Lothian. This group is facilitated by Sarah Cornelius. \nIf you have not been before and would like to attend \, please email us at Info@pasda.org.uk for more information
URL:https://www.pasda.org.uk/index.php/event/pasda-est-lothian-carers-group/
LOCATION:Fraser Centre\, 3 Winton Place\, Tranent\, EH33 1AF\, United Kingdom
CATEGORIES:East Lothian Carers Group
ORGANIZER;CN="The Pasda Team":MAILTO:info@pasda.org.uk
END:VEVENT
BEGIN:VEVENT
DTSTART;TZID=UTC:20250219T190000
DTEND;TZID=UTC:20250219T203000
DTSTAMP:20260420T093517
CREATED:20250130T122808Z
LAST-MODIFIED:20250130T122808Z
UID:9050-1739991600-1739997000@www.pasda.org.uk
SUMMARY:Pasda East Lothian Carers Group
DESCRIPTION:Carers  of autistic adults  who reside in East Lothian are welcome join us . \nWe  meet at the Fraser Centre in Tranent\, East Lothian. This group is facilitated by Sarah Cornelius. \nIf you have not been before and would like to attend \, please email us at Info@pasda.org.uk for more information
URL:https://www.pasda.org.uk/index.php/event/pasda-east-lothian-carers-group-2/
LOCATION:Fraser Centre\, 3 Winton Place\, Tranent\, EH33 1AF\, United Kingdom
CATEGORIES:East Lothian Carers Group
ORGANIZER;CN="The Pasda Team":MAILTO:info@pasda.org.uk
END:VEVENT
BEGIN:VEVENT
DTSTART;TZID=UTC:20250115T190000
DTEND;TZID=UTC:20250115T203000
DTSTAMP:20260420T093517
CREATED:20241202T134305Z
LAST-MODIFIED:20241202T134305Z
UID:9024-1736967600-1736973000@www.pasda.org.uk
SUMMARY:Pasda East Lothian Carers Group
DESCRIPTION:Carers  of autistic adults  who reside in East Lothian are welcome join us . \nWe  meet at the Fraser Centre in Tranent\, East Lothian. This group is facilitated by Sarah Cornelius. \nIf you have not been before and would like to attend \, please email us at Info@pasda.org.uk for more information
URL:https://www.pasda.org.uk/index.php/event/pasda-east-lothian-carers-group/
LOCATION:Fraser Centre\, 3 Winton Place\, Tranent\, EH33 1AF\, United Kingdom
CATEGORIES:East Lothian Carers Group
ORGANIZER;CN="The Pasda Team":MAILTO:info@pasda.org.uk
END:VEVENT
BEGIN:VEVENT
DTSTART;TZID=UTC:20241120T190000
DTEND;TZID=UTC:20241120T203000
DTSTAMP:20260420T093517
CREATED:20241021T051701Z
LAST-MODIFIED:20241021T051701Z
UID:9002-1732129200-1732134600@www.pasda.org.uk
SUMMARY:Pasda East Lothian Carers Support Group
DESCRIPTION:Carers  of autistic adults  who reside in East Lothian are welcome join us . \nWe  meet at the Fraser Centre in Tranent\, East Lothian. This group is facilitated by Sarah Cornelius. \nIf you have not been before and would like to attend \, please email us at Info@pasda.org.uk for more information
URL:https://www.pasda.org.uk/index.php/event/pasda-east-lothian-carers-support-group-19/
LOCATION:Fraser Centre\, 3 Winton Place\, Tranent\, EH33 1AF\, United Kingdom
CATEGORIES:East Lothian Carers Group
ORGANIZER;CN="The Pasda Team":MAILTO:info@pasda.org.uk
END:VEVENT
BEGIN:VEVENT
DTSTART;TZID=UTC:20241016T190000
DTEND;TZID=UTC:20241016T203000
DTSTAMP:20260420T093517
CREATED:20240911T090126Z
LAST-MODIFIED:20240911T090126Z
UID:8962-1729105200-1729110600@www.pasda.org.uk
SUMMARY:Pasda East Lothian Support Group
DESCRIPTION:Carers  of autistic adults  who reside in East Lothian are welcome join us . \nWe  meet at the Fraser Centre in Tranent\, East Lothian. This group is facilitated by Sarah Cornelius. \nIf you have not been before and would like to attend \, please email us at Info@pasda.org.uk for more information
URL:https://www.pasda.org.uk/index.php/event/pasda-east-lothian-support-group/
LOCATION:Fraser Centre\, 3 Winton Place\, Tranent\, EH33 1AF\, United Kingdom
CATEGORIES:East Lothian Carers Group
ORGANIZER;CN="The Pasda Team":MAILTO:info@pasda.org.uk
END:VEVENT
BEGIN:VEVENT
DTSTART;TZID=UTC:20240918T190000
DTEND;TZID=UTC:20240918T203000
DTSTAMP:20260420T093517
CREATED:20240722T102206Z
LAST-MODIFIED:20240722T102206Z
UID:8909-1726686000-1726691400@www.pasda.org.uk
SUMMARY:Pasda East Lothian Carers Support Group
DESCRIPTION:  \nCarers  of autistic adults  who reside in East Lothian are welcome join us . \nWe  meet at the Fraser Centre in Tranent\, East Lothian. This group is facilitated by Sarah Cornelius. \nIf you have not been before and would like to attend \, please email us at Info@pasda.org.uk for more information
URL:https://www.pasda.org.uk/index.php/event/pasda-east-lothian-carers-support-group-18/
LOCATION:Fraser Centre\, 3 Winton Place\, Tranent\, EH33 1AF\, United Kingdom
CATEGORIES:East Lothian Carers Group
ORGANIZER;CN="The Pasda Team":MAILTO:info@pasda.org.uk
END:VEVENT
BEGIN:VEVENT
DTSTART;TZID=UTC:20240717T190000
DTEND;TZID=UTC:20240717T203000
DTSTAMP:20260420T093517
CREATED:20240619T180827Z
LAST-MODIFIED:20240619T180827Z
UID:8271-1721242800-1721248200@www.pasda.org.uk
SUMMARY:Pasda East Lothian Carers Support Group
DESCRIPTION:Carers  of autistic adults  who reside in East Lothian are welcome join us . \nWe  meet at the Fraser Centre in Tranent\, East Lothian. This group is facilitated by Sarah Cornelius. \nIf you have not been before and would like to attend \, please email us at Info@pasda.org.uk for more information
URL:https://www.pasda.org.uk/index.php/event/pasda-east-lothian-carers-support-group-17/
LOCATION:Fraser Centre\, 3 Winton Place\, Tranent\, EH33 1AF\, United Kingdom
CATEGORIES:East Lothian Carers Group
ORGANIZER;CN="The Pasda Team":MAILTO:info@pasda.org.uk
END:VEVENT
BEGIN:VEVENT
DTSTART;TZID=UTC:20240619T190000
DTEND;TZID=UTC:20240619T203000
DTSTAMP:20260420T093517
CREATED:20240403T145010Z
LAST-MODIFIED:20240403T145010Z
UID:8233-1718823600-1718829000@www.pasda.org.uk
SUMMARY:Pasda East Lothian Carers Support Group
DESCRIPTION:Carers  of autistic adults  who reside in East Lothian are welcome join us . \nWe  meet at the Fraser Centre in Tranent\, East Lothian. This group is facilitated by Sarah Cornelius. \nIf you have not been before and would like to attend \, please email us at Info@pasda.org.uk for more information
URL:https://www.pasda.org.uk/index.php/event/pasda-east-lothian-carers-support-group-16/
LOCATION:Fraser Centre\, 3 Winton Place\, Tranent\, EH33 1AF\, United Kingdom
CATEGORIES:East Lothian Carers Group,West Lothian Carers Group
ORGANIZER;CN="The Pasda Team":MAILTO:info@pasda.org.uk
END:VEVENT
BEGIN:VEVENT
DTSTART;TZID=UTC:20240515T190000
DTEND;TZID=UTC:20240515T203000
DTSTAMP:20260420T093517
CREATED:20240403T101822Z
LAST-MODIFIED:20240403T101822Z
UID:8221-1715799600-1715805000@www.pasda.org.uk
SUMMARY:Pasda East Lothian Carers Support Group
DESCRIPTION:Carers  of autistic adults  who reside in East Lothian are welcome join us . \nWe  meet at the Fraser Centre in Tranent\, East Lothian. This group is facilitated by Sarah Cornelius. \nIf you have not been before and would like to attend \, please email us at Info@pasda.org.uk for more information
URL:https://www.pasda.org.uk/index.php/event/pasda-east-lothian-carers-support-group-15/
LOCATION:Fraser Centre\, 3 Winton Place\, Tranent\, EH33 1AF\, United Kingdom
CATEGORIES:East Lothian Carers Group
ORGANIZER;CN="The Pasda Team":MAILTO:info@pasda.org.uk
END:VEVENT
BEGIN:VEVENT
DTSTART;TZID=UTC:20240417T190000
DTEND;TZID=UTC:20240417T203000
DTSTAMP:20260420T093517
CREATED:20240222T120307Z
LAST-MODIFIED:20240222T120307Z
UID:8202-1713380400-1713385800@www.pasda.org.uk
SUMMARY:Pasda East Lothian Carers Support Group
DESCRIPTION:Carers  of autistic adults  who reside in East Lothian are welcome join us . \nWe  meet at the Fraser Centre in Tranent\, East Lothian. This group is facilitated by Sarah Cornelius. \nIf you have not been before and would like to attend \, please email us at Info@pasda.org.uk for more information
URL:https://www.pasda.org.uk/index.php/event/pasda-east-lothian-carers-support-group-14/
LOCATION:Fraser Centre\, 3 Winton Place\, Tranent\, EH33 1AF\, United Kingdom
CATEGORIES:East Lothian Carers Group
ORGANIZER;CN="The Pasda Team":MAILTO:info@pasda.org.uk
END:VEVENT
BEGIN:VEVENT
DTSTART;TZID=UTC:20240320T190000
DTEND;TZID=UTC:20240320T203000
DTSTAMP:20260420T093517
CREATED:20240222T120118Z
LAST-MODIFIED:20240222T120118Z
UID:8200-1710961200-1710966600@www.pasda.org.uk
SUMMARY:Pasda East Lothian Carers Support Group
DESCRIPTION:Carers  of autistic adults  who reside in East Lothian are welcome join us . \nWe  meet at the Fraser Centre in Tranent\, East Lothian. This group is facilitated by Sarah Cornelius. \nIf you have not been before and would like to attend \, please email us at Info@pasda.org.uk for more information
URL:https://www.pasda.org.uk/index.php/event/pasda-east-lothian-carers-support-group-13/
LOCATION:Fraser Centre\, 3 Winton Place\, Tranent\, EH33 1AF\, United Kingdom
CATEGORIES:East Lothian Carers Group
ORGANIZER;CN="The Pasda Team":MAILTO:info@pasda.org.uk
END:VEVENT
BEGIN:VEVENT
DTSTART;TZID=UTC:20240221T190000
DTEND;TZID=UTC:20240221T203000
DTSTAMP:20260420T093517
CREATED:20240124T150714Z
LAST-MODIFIED:20240124T150714Z
UID:8868-1708542000-1708547400@www.pasda.org.uk
SUMMARY:Pasda East Lothian Carers Support Group
DESCRIPTION:Carers  of autistic adults  who reside in East Lothian are welcome join us . \nWe  meet at the Fraser Centre in Tranent\, East Lothian. This group is facilitated by Sarah Cornelius. \nIf you have not been before and would like to attend \, please email us at Info@pasda.org.uk for more information
URL:https://www.pasda.org.uk/index.php/event/pasda-east-lothian-carers-support-group-12-2/
LOCATION:Fraser Centre\, 3 Winton Place\, Tranent\, EH33 1AF\, United Kingdom
CATEGORIES:East Lothian Carers Group
ORGANIZER;CN="The Pasda Team":MAILTO:info@pasda.org.uk
END:VEVENT
BEGIN:VEVENT
DTSTART;TZID=UTC:20240117T190000
DTEND;TZID=UTC:20240117T203000
DTSTAMP:20260420T093517
CREATED:20231218T181232Z
LAST-MODIFIED:20231218T181232Z
UID:8155-1705518000-1705523400@www.pasda.org.uk
SUMMARY:Pasda East Lothian Carers Support Group
DESCRIPTION:Carers of autistic adults who reside in East Lothian are welcome join us . \nWe meet at the Fraser Centre in Tranent\, East Lothian. This group is facilitated by Sarah Cornelius. \nIf you have not been before and would like to attend \, please email us at Info@pasda.org.uk for more information
URL:https://www.pasda.org.uk/index.php/event/pasda-east-lothian-carers-support-group-11/
LOCATION:Fraser Centre\, 3 Winton Place\, Tranent\, EH33 1AF\, United Kingdom
CATEGORIES:East Lothian Carers Group
ORGANIZER;CN="The Pasda Team":MAILTO:info@pasda.org.uk
END:VEVENT
BEGIN:VEVENT
DTSTART;TZID=UTC:20240117T190000
DTEND;TZID=UTC:20240117T203000
DTSTAMP:20260420T093517
CREATED:20231218T181232Z
LAST-MODIFIED:20231218T181232Z
UID:8866-1705518000-1705523400@www.pasda.org.uk
SUMMARY:Pasda East Lothian Carers Support Group
DESCRIPTION:Carers  of autistic adults  who reside in East Lothian are welcome join us . \nWe  meet at the Fraser Centre in Tranent\, East Lothian. This group is facilitated by Sarah Cornelius. \nIf you have not been before and would like to attend \, please email us at Info@pasda.org.uk for more information
URL:https://www.pasda.org.uk/index.php/event/pasda-east-lothian-carers-support-group-11-2/
LOCATION:Fraser Centre\, 3 Winton Place\, Tranent\, EH33 1AF\, United Kingdom
CATEGORIES:East Lothian Carers Group
ORGANIZER;CN="The Pasda Team":MAILTO:info@pasda.org.uk
END:VEVENT
BEGIN:VEVENT
DTSTART;TZID=UTC:20231115T190000
DTEND;TZID=UTC:20231115T203000
DTSTAMP:20260420T093517
CREATED:20231023T103653Z
LAST-MODIFIED:20231023T103653Z
UID:8119-1700074800-1700080200@www.pasda.org.uk
SUMMARY:Pasda East Lothian Carers Support Group
DESCRIPTION:Carers of autistic adults who reside in East Lothian are welcome join us . \nWe meet at the Fraser Centre in Tranent\, East Lothian. \nIf you have not been before and would like to attend \, please email us at Info@pasda.org.uk for more information.
URL:https://www.pasda.org.uk/index.php/event/pasda-east-lothian-carers-support-group-10/
LOCATION:Fraser Centre\, 3 Winton Place\, Tranent\, EH33 1AF\, United Kingdom
CATEGORIES:East Lothian Carers Group
ORGANIZER;CN="The Pasda Team":MAILTO:info@pasda.org.uk
END:VEVENT
BEGIN:VEVENT
DTSTART;TZID=UTC:20231115T190000
DTEND;TZID=UTC:20231115T203000
DTSTAMP:20260420T093517
CREATED:20231023T103653Z
LAST-MODIFIED:20231023T103653Z
UID:8855-1700074800-1700080200@www.pasda.org.uk
SUMMARY:Pasda East Lothian Carers Support Group
DESCRIPTION:Carers  of autistic adults  who reside in East Lothian are welcome join us . \nWe  meet at the Fraser Centre in Tranent\, East Lothian. \nIf you have not been before and would like to attend \, please email us at Info@pasda.org.uk for more information.
URL:https://www.pasda.org.uk/index.php/event/pasda-east-lothian-carers-support-group-10-2/
LOCATION:Fraser Centre\, 3 Winton Place\, Tranent\, EH33 1AF\, United Kingdom
CATEGORIES:East Lothian Carers Group
ORGANIZER;CN="The Pasda Team":MAILTO:info@pasda.org.uk
END:VEVENT
BEGIN:VEVENT
DTSTART;TZID=UTC:20231018T190000
DTEND;TZID=UTC:20231018T203000
DTSTAMP:20260420T093517
CREATED:20230821T101300Z
LAST-MODIFIED:20230821T101300Z
UID:8849-1697655600-1697661000@www.pasda.org.uk
SUMMARY:Pasda Carers East Lothian Support Group
DESCRIPTION:Carers  of autistic adults  who reside in East Lothian are welcome join Cath Purdie  for a cuppa and some conversation. \nWe  meet at the Fraser Centre in Tranent\, East Lothian. \nPlease email us to register your interest.
URL:https://www.pasda.org.uk/index.php/event/pasda-carers-east-lothian-support-group-2-2/
LOCATION:Fraser Centre\, 3 Winton Place\, Tranent\, EH33 1AF\, United Kingdom
CATEGORIES:East Lothian Carers Group
ORGANIZER;CN="The Pasda Team":MAILTO:info@pasda.org.uk
END:VEVENT
BEGIN:VEVENT
DTSTART;TZID=UTC:20231018T190000
DTEND;TZID=UTC:20231018T203000
DTSTAMP:20260420T093517
CREATED:20230821T101300Z
LAST-MODIFIED:20231018T141854Z
UID:8095-1697655600-1697661000@www.pasda.org.uk
SUMMARY:Pasda Carers East Lothian Support Group
DESCRIPTION:Carers of autistic adults who reside in East Lothian are welcome join Cath Purdie for a cuppa and some conversation. \nWe meet at the Fraser Centre in Tranent\, East Lothian. \nPlease email us to register your interest.
URL:https://www.pasda.org.uk/index.php/event/pasda-carers-east-lothian-support-group-2/
LOCATION:Fraser Centre\, 3 Winton Place\, Tranent\, EH33 1AF\, United Kingdom
CATEGORIES:East Lothian Carers Group
ORGANIZER;CN="The Pasda Team":MAILTO:info@pasda.org.uk
END:VEVENT
BEGIN:VEVENT
DTSTART;TZID=UTC:20230920T190000
DTEND;TZID=UTC:20230920T203000
DTSTAMP:20260420T093517
CREATED:20230821T101059Z
LAST-MODIFIED:20230821T101059Z
UID:8848-1695236400-1695241800@www.pasda.org.uk
SUMMARY:Pasda Carers East Lothian Support Group
DESCRIPTION:Carers  of autistic adults  who reside in East Lothian are welcome join Cath Purdie  for a cuppa and some conversation. \nWe  meet at the Fraser Centre in Tranent\, East Lothian. Our special guest this month is East Lothian MSP Paul McLennan. \nPlease email us to register your interest.
URL:https://www.pasda.org.uk/index.php/event/pasda-carers-east-lothian-support-group-3/
LOCATION:Fraser Centre\, 3 Winton Place\, Tranent\, EH33 1AF\, United Kingdom
CATEGORIES:East Lothian Carers Group
ORGANIZER;CN="The Pasda Team":MAILTO:info@pasda.org.uk
END:VEVENT
END:VCALENDAR