BEGIN:VCALENDAR
VERSION:2.0
PRODID:-//Pasda - ECPv6.15.20//NONSGML v1.0//EN
CALSCALE:GREGORIAN
METHOD:PUBLISH
X-WR-CALNAME:Pasda
X-ORIGINAL-URL:https://www.pasda.org.uk
X-WR-CALDESC:Events for Pasda
REFRESH-INTERVAL;VALUE=DURATION:PT1H
X-Robots-Tag:noindex
X-PUBLISHED-TTL:PT1H
BEGIN:VTIMEZONE
TZID:UTC
BEGIN:STANDARD
TZOFFSETFROM:+0000
TZOFFSETTO:+0000
TZNAME:UTC
DTSTART:20220101T000000
END:STANDARD
END:VTIMEZONE
BEGIN:VEVENT
DTSTART;TZID=UTC:20230315T190000
DTEND;TZID=UTC:20230315T203000
DTSTAMP:20260423T011037
CREATED:20230207T120627Z
LAST-MODIFIED:20230207T120627Z
UID:8007-1678906800-1678912200@www.pasda.org.uk
SUMMARY:Pasda East Lothian Carers Support Group
DESCRIPTION:Carers of autistic adults who reside in East Lothian are welcome join Cath Purdie for a cuppa and some conversation. \nWe meet at the Fraser Centre in Tranent. \nPlease email us to register your interest.
URL:https://www.pasda.org.uk/index.php/event/pasda-east-lothian-carers-support-group-7/
LOCATION:Fraser Centre\, 3 Winton Place\, Tranent\, EH33 1AF\, United Kingdom
CATEGORIES:Edinburgh Carers Group
ORGANIZER;CN="The Pasda Team":MAILTO:info@pasda.org.uk
END:VEVENT
BEGIN:VEVENT
DTSTART;TZID=UTC:20230315T190000
DTEND;TZID=UTC:20230315T203000
DTSTAMP:20260423T011037
CREATED:20230207T120627Z
LAST-MODIFIED:20230207T120627Z
UID:8828-1678906800-1678912200@www.pasda.org.uk
SUMMARY:Pasda East Lothian Carers Support Group
DESCRIPTION:Carers  of autistic adults  who reside in East Lothian are welcome join Cath Purdie  for a cuppa and some conversation. \nWe meet at the Fraser Centre in Tranent. \nPlease email us to register your interest.
URL:https://www.pasda.org.uk/index.php/event/pasda-east-lothian-carers-support-group-7-2/
LOCATION:Fraser Centre\, 3 Winton Place\, Tranent\, EH33 1AF\, United Kingdom
CATEGORIES:Edinburgh Carers Group
ORGANIZER;CN="The Pasda Team":MAILTO:info@pasda.org.uk
END:VEVENT
BEGIN:VEVENT
DTSTART;TZID=UTC:20230322T190000
DTEND;TZID=UTC:20230322T210000
DTSTAMP:20260423T011037
CREATED:20230207T121110Z
LAST-MODIFIED:20230222T130519Z
UID:8011-1679511600-1679518800@www.pasda.org.uk
SUMMARY:Pasda Carer Information Evening
DESCRIPTION:All carers of autistic adults are welcome to attend our Carer Information meetings. \nThis month our special guest is Maureen Martin from Edinburgh Development Group. \nThere will be refreshments courtesy of Pasda.
URL:https://www.pasda.org.uk/index.php/event/pasda-carer-information-evening-2/
LOCATION:24 Hill Street\, 24 Hill Street\, Edinburgh\, EH2 3JZ\, United Kingdom
CATEGORIES:Edinburgh Carers Group
ORGANIZER;CN="The Pasda Team":MAILTO:info@pasda.org.uk
END:VEVENT
BEGIN:VEVENT
DTSTART;TZID=UTC:20230322T190000
DTEND;TZID=UTC:20230322T210000
DTSTAMP:20260423T011037
CREATED:20230207T121110Z
LAST-MODIFIED:20230207T121110Z
UID:8830-1679511600-1679518800@www.pasda.org.uk
SUMMARY:Pasda Carer Information Evening
DESCRIPTION:All carers of autistic adults are welcome to attend our Carer Information meetings. \nThis month our special guest is Maureen Martin from Edinburgh Development Group. \nThere will be refreshments courtesy of Pasda.
URL:https://www.pasda.org.uk/index.php/event/pasda-carer-information-evening-2-2/
LOCATION:24 Hill Street\, 24 Hill Street\, Edinburgh\, EH2 3JZ\, United Kingdom
CATEGORIES:Edinburgh Carers Group
ORGANIZER;CN="The Pasda Team":MAILTO:info@pasda.org.uk
END:VEVENT
END:VCALENDAR