BEGIN:VCALENDAR
VERSION:2.0
PRODID:-//Pasda - ECPv6.15.20//NONSGML v1.0//EN
CALSCALE:GREGORIAN
METHOD:PUBLISH
X-WR-CALNAME:Pasda
X-ORIGINAL-URL:https://www.pasda.org.uk
X-WR-CALDESC:Events for Pasda
REFRESH-INTERVAL;VALUE=DURATION:PT1H
X-Robots-Tag:noindex
X-PUBLISHED-TTL:PT1H
BEGIN:VTIMEZONE
TZID:UTC
BEGIN:STANDARD
TZOFFSETFROM:+0000
TZOFFSETTO:+0000
TZNAME:UTC
DTSTART:20170101T000000
END:STANDARD
END:VTIMEZONE
BEGIN:VTIMEZONE
TZID:Europe/Paris
BEGIN:DAYLIGHT
TZOFFSETFROM:+0100
TZOFFSETTO:+0200
TZNAME:CEST
DTSTART:20150329T010000
END:DAYLIGHT
BEGIN:STANDARD
TZOFFSETFROM:+0200
TZOFFSETTO:+0100
TZNAME:CET
DTSTART:20151025T010000
END:STANDARD
BEGIN:DAYLIGHT
TZOFFSETFROM:+0100
TZOFFSETTO:+0200
TZNAME:CEST
DTSTART:20160327T010000
END:DAYLIGHT
BEGIN:STANDARD
TZOFFSETFROM:+0200
TZOFFSETTO:+0100
TZNAME:CET
DTSTART:20161030T010000
END:STANDARD
BEGIN:DAYLIGHT
TZOFFSETFROM:+0100
TZOFFSETTO:+0200
TZNAME:CEST
DTSTART:20170326T010000
END:DAYLIGHT
BEGIN:STANDARD
TZOFFSETFROM:+0200
TZOFFSETTO:+0100
TZNAME:CET
DTSTART:20171029T010000
END:STANDARD
END:VTIMEZONE
BEGIN:VEVENT
DTSTART;TZID=UTC:20180301T190000
DTEND;TZID=UTC:20180301T203000
DTSTAMP:20260421T071157
CREATED:20180225T101852Z
LAST-MODIFIED:20180225T101852Z
UID:8627-1519930800-1519936200@www.pasda.org.uk
SUMMARY:Partners and Spouses group.
DESCRIPTION:If you have a Partner or Spouse on the Autism Spectrum and you would like to attend this group\, please contact our Carer Communication Officer\, Cath Purdie . \ncath.purdie@pasda.org.uk \n 
URL:https://www.pasda.org.uk/index.php/event/partners-and-spouses-group-2-2/
CATEGORIES:Partner & Spouses Group
END:VEVENT
BEGIN:VEVENT
DTSTART;TZID=UTC:20180301T190000
DTEND;TZID=UTC:20180301T203000
DTSTAMP:20260421T071157
CREATED:20180225T101852Z
LAST-MODIFIED:20180225T101852Z
UID:6039-1519930800-1519936200@www.pasda.org.uk
SUMMARY:Partners and Spouses group.
DESCRIPTION:If you have a Partner or Spouse on the Autism Spectrum and you would like to attend this group\, please contact our Carer Communication Officer\, Cath Purdie . \ncath.purdie@pasda.org.uk \n 
URL:https://www.pasda.org.uk/index.php/event/partners-and-spouses-group-2/
CATEGORIES:Partner & Spouses Group
END:VEVENT
BEGIN:VEVENT
DTSTART;TZID=Europe/Paris:20160901T183000
DTEND;TZID=Europe/Paris:20160901T203000
DTSTAMP:20260421T071157
CREATED:20160725T141245Z
LAST-MODIFIED:20160725T141245Z
UID:1753-1472754600-1472761800@www.pasda.org.uk
SUMMARY:Partners Group
DESCRIPTION:
URL:https://www.pasda.org.uk/index.php/event/partners-group/
LOCATION:VOCAL Carer Centre\, 8-13 Johnston Terrace\, Edinburgh\, EH1 2PW\, United Kingdom
CATEGORIES:Partner & Spouses Group
END:VEVENT
BEGIN:VEVENT
DTSTART;TZID=Europe/Paris:20160901T183000
DTEND;TZID=Europe/Paris:20160901T203000
DTSTAMP:20260421T071157
CREATED:20160725T141245Z
LAST-MODIFIED:20160725T141245Z
UID:8534-1472754600-1472761800@www.pasda.org.uk
SUMMARY:Partners Group
DESCRIPTION:
URL:https://www.pasda.org.uk/index.php/event/partners-group-2/
LOCATION:VOCAL Carer Centre\, 8-13 Johnston Terrace\, Edinburgh\, EH1 2PW\, United Kingdom
CATEGORIES:Partner & Spouses Group
END:VEVENT
BEGIN:VEVENT
DTSTART;TZID=Europe/Paris:20160714T180000
DTEND;TZID=Europe/Paris:20160714T203000
DTSTAMP:20260421T071157
CREATED:20160629T112948Z
LAST-MODIFIED:20160629T112948Z
UID:1653-1468519200-1468528200@www.pasda.org.uk
SUMMARY:Partners Group Social Event
DESCRIPTION:
URL:https://www.pasda.org.uk/index.php/event/partners-and-spouses-group/
LOCATION:To Be Confirmed
CATEGORIES:Partner & Spouses Group
END:VEVENT
BEGIN:VEVENT
DTSTART;TZID=Europe/Paris:20160714T180000
DTEND;TZID=Europe/Paris:20160714T203000
DTSTAMP:20260421T071157
CREATED:20160629T112948Z
LAST-MODIFIED:20160629T112948Z
UID:8525-1468519200-1468528200@www.pasda.org.uk
SUMMARY:Partners Group Social Event
DESCRIPTION:
URL:https://www.pasda.org.uk/index.php/event/partners-and-spouses-group-3/
LOCATION:To Be Confirmed
CATEGORIES:Partner & Spouses Group
END:VEVENT
END:VCALENDAR