BEGIN:VCALENDAR
VERSION:2.0
PRODID:-//Pasda - ECPv6.15.20//NONSGML v1.0//EN
CALSCALE:GREGORIAN
METHOD:PUBLISH
X-WR-CALNAME:Pasda
X-ORIGINAL-URL:https://www.pasda.org.uk
X-WR-CALDESC:Events for Pasda
REFRESH-INTERVAL;VALUE=DURATION:PT1H
X-Robots-Tag:noindex
X-PUBLISHED-TTL:PT1H
BEGIN:VTIMEZONE
TZID:UTC
BEGIN:STANDARD
TZOFFSETFROM:+0000
TZOFFSETTO:+0000
TZNAME:UTC
DTSTART:20180101T000000
END:STANDARD
END:VTIMEZONE
BEGIN:VEVENT
DTSTART;TZID=UTC:20221026T190000
DTEND;TZID=UTC:20221026T210000
DTSTAMP:20260425T150638
CREATED:20220928T130128Z
LAST-MODIFIED:20220928T130128Z
UID:8805-1666810800-1666818000@www.pasda.org.uk
SUMMARY:All Behaviour is Communication
DESCRIPTION:A presentation by Sarah Barratt. Pasda Carer and Educational Psychologist. \nThe presentation is for anyone who supports an autistic adult and to understand how to recognise autism behaviour \, often non verbal\, as a means to communicate. \nCarers in Edinburgh and the Lothian free. (although we are grateful for voluntary donations) \nProfessionals £30.   Booking is essential info@pasda.org.uk \n 
URL:https://www.pasda.org.uk/index.php/event/all-behaviour-is-communication-2/
LOCATION:Number 6\, 24 Hill Street\, Edinburgh\, EH2 3JZ\, United Kingdom
CATEGORIES:Understanding Autism
ORGANIZER;CN="The Pasda Team":MAILTO:info@pasda.org.uk
END:VEVENT
BEGIN:VEVENT
DTSTART;TZID=UTC:20221026T190000
DTEND;TZID=UTC:20221026T210000
DTSTAMP:20260425T150638
CREATED:20220928T130128Z
LAST-MODIFIED:20220928T130552Z
UID:7894-1666810800-1666818000@www.pasda.org.uk
SUMMARY:All Behaviour is Communication
DESCRIPTION:A presentation by Sarah Barratt. Pasda Carer and Educational Psychologist. \nThe presentation is for anyone who supports an autistic adult and to understand how to recognise autism behaviour \, often non verbal\, as a means to communicate. \nCarers in Edinburgh and the Lothian free. (although we are grateful for voluntary donations) \nProfessionals £30. Booking is essential info@pasda.org.uk \n 
URL:https://www.pasda.org.uk/index.php/event/all-behaviour-is-communication/
LOCATION:Number 6\, 24 Hill Street\, Edinburgh\, EH2 3JZ\, United Kingdom
CATEGORIES:Understanding Autism
ORGANIZER;CN="The Pasda Team":MAILTO:info@pasda.org.uk
END:VEVENT
BEGIN:VEVENT
DTSTART;TZID=UTC:20190522T193000
DTEND;TZID=UTC:20190522T210000
DTSTAMP:20260425T150638
CREATED:20190429T181603Z
LAST-MODIFIED:20190429T181603Z
UID:8706-1558553400-1558558800@www.pasda.org.uk
SUMMARY:Autism Workshop
DESCRIPTION:This workshop will focus on the difficulties parents\, carers and those working with Autistic individuals experience in making sense of and responding to the behaviour of Autistic individuals. In particular we will explore the impact this behaviour can have on own behaviour and begin to look at how we can better ’translate’ what Autistic individuals struggle to communicate through words\, but often do so through their behaviour.  The challenge\, once we understand what is being communicated through the behaviour\,  is how to respond in appropriate ways. \n  \n 
URL:https://www.pasda.org.uk/index.php/event/autism-workshop-3/
LOCATION:Norton Park\, 57 Albion Rd\, EH7 5QY\, United Kingdom
CATEGORIES:Understanding Autism
ORGANIZER;CN="The Pasda Team":MAILTO:info@pasda.org.uk
END:VEVENT
BEGIN:VEVENT
DTSTART;TZID=UTC:20190522T193000
DTEND;TZID=UTC:20190522T210000
DTSTAMP:20260425T150638
CREATED:20190429T181603Z
LAST-MODIFIED:20190429T181603Z
UID:6966-1558553400-1558558800@www.pasda.org.uk
SUMMARY:Autism Workshop
DESCRIPTION:This workshop will focus on the difficulties parents\, carers and those working with Autistic individuals experience in making sense of and responding to the behaviour of Autistic individuals. In particular we will explore the impact this behaviour can have on own behaviour and begin to look at how we can better ‘translate’ what Autistic individuals struggle to communicate through words\, but often do so through their behaviour. The challenge\, once we understand what is being communicated through the behaviour\, is how to respond in appropriate ways. \n  \n 
URL:https://www.pasda.org.uk/index.php/event/autism-workshop/
LOCATION:Norton Park\, 57 Albion Rd\, EH7 5QY\, United Kingdom
CATEGORIES:Understanding Autism
ORGANIZER;CN="The Pasda Team":MAILTO:info@pasda.org.uk
END:VEVENT
END:VCALENDAR