BEGIN:VCALENDAR
VERSION:2.0
PRODID:-//Pasda - ECPv6.15.20//NONSGML v1.0//EN
CALSCALE:GREGORIAN
METHOD:PUBLISH
X-WR-CALNAME:Pasda
X-ORIGINAL-URL:https://www.pasda.org.uk
X-WR-CALDESC:Events for Pasda
REFRESH-INTERVAL;VALUE=DURATION:PT1H
X-Robots-Tag:noindex
X-PUBLISHED-TTL:PT1H
BEGIN:VTIMEZONE
TZID:UTC
BEGIN:STANDARD
TZOFFSETFROM:+0000
TZOFFSETTO:+0000
TZNAME:UTC
DTSTART:20220101T000000
END:STANDARD
END:VTIMEZONE
BEGIN:VEVENT
DTSTART;TZID=UTC:20230715T100000
DTEND;TZID=UTC:20230715T143000
DTSTAMP:20260423T150134
CREATED:20230626T124302Z
LAST-MODIFIED:20230626T124302Z
UID:8075-1689415200-1689431400@www.pasda.org.uk
SUMMARY:Pasda Walking Group
DESCRIPTION:This walk will take place in Edinburgh \, meeting point is the Travelodge \, 43\, Craigmillar Park\, Cameron Toll\, EH16 5PD. Sarah Cornelius and Tom Wightman will meet you there around 10.00 am \nAs always plan to bring with you waterproofs\, warm clothing and sunglasses . A light lunch will be provided to all walkers at the end of the walk. \nPlease let Cath Purdie know if you are intending to join any of our planned walks email info@pasda.org.uk
URL:https://www.pasda.org.uk/index.php/event/pasda-walking-group-3/
LOCATION:Hermitage of Braid\, Edinburgh\, EH10 6JF\, United Kingdom
CATEGORIES:Walking Group
ORGANIZER;CN="The Pasda Team":MAILTO:info@pasda.org.uk
END:VEVENT
BEGIN:VEVENT
DTSTART;TZID=UTC:20230715T100000
DTEND;TZID=UTC:20230715T143000
DTSTAMP:20260423T150134
CREATED:20230626T124302Z
LAST-MODIFIED:20230626T124302Z
UID:8842-1689415200-1689431400@www.pasda.org.uk
SUMMARY:Pasda Walking Group
DESCRIPTION:This walk will take place in Edinburgh \, meeting point is  the Travelodge \, 43\, Craigmillar Park\, Cameron Toll\, EH16 5PD.  Sarah Cornelius and Tom Wightman  will meet you there around 10.00 am \nAs always plan to bring with you waterproofs\, warm clothing and sunglasses . A light lunch will be provided to all walkers at the end of the walk. \nPlease let Cath Purdie know if you are intending to join any of our planned walks email info@pasda.org.uk
URL:https://www.pasda.org.uk/index.php/event/pasda-walking-group-3-2/
LOCATION:Hermitage of Braid\, Edinburgh\, EH10 6JF\, United Kingdom
CATEGORIES:Walking Group
ORGANIZER;CN="The Pasda Team":MAILTO:info@pasda.org.uk
END:VEVENT
END:VCALENDAR