BEGIN:VCALENDAR
VERSION:2.0
PRODID:-//Pasda - ECPv6.15.20//NONSGML v1.0//EN
CALSCALE:GREGORIAN
METHOD:PUBLISH
X-WR-CALNAME:Pasda
X-ORIGINAL-URL:https://www.pasda.org.uk
X-WR-CALDESC:Events for Pasda
REFRESH-INTERVAL;VALUE=DURATION:PT1H
X-Robots-Tag:noindex
X-PUBLISHED-TTL:PT1H
BEGIN:VTIMEZONE
TZID:UTC
BEGIN:STANDARD
TZOFFSETFROM:+0000
TZOFFSETTO:+0000
TZNAME:UTC
DTSTART:20210101T000000
END:STANDARD
END:VTIMEZONE
BEGIN:VEVENT
DTSTART;TZID=UTC:20220709T103000
DTEND;TZID=UTC:20220709T150000
DTSTAMP:20260424T084807
CREATED:20220628T181207Z
LAST-MODIFIED:20220628T181207Z
UID:7845-1657362600-1657378800@www.pasda.org.uk
SUMMARY:Walking Group
DESCRIPTION:Our walks take place every month from March to October throughout Edinburgh and the Lothians. \nAs always plan to bring with you waterproofs\, warm clothing and sunglasses . A light lunch will be provided to all walkers at the end of the walk. \nPlease let Cath Purdie know if you are intending to join any of our planned walks 0131 475 2416 or email info@pasda.org.uk \nFor July  we will be having a walk through Lennoxlove Estate with Pasda Carer Jenny Howie. Please meet at the bus stop on the Court Street near to The Bank of Scotland. Lunch will be at Diggorys. \nContact the info box to book.
URL:https://www.pasda.org.uk/index.php/event/walking-group-38/
LOCATION:Bank of Scotland Haddington\, 44 Court Street\, Haddington\, East Lothian\, EH41 3NP\, United Kingdom
CATEGORIES:Walking Group
ORGANIZER;CN="The Pasda Team":MAILTO:info@pasda.org.uk
END:VEVENT
BEGIN:VEVENT
DTSTART;TZID=UTC:20220709T103000
DTEND;TZID=UTC:20220709T150000
DTSTAMP:20260424T084807
CREATED:20220628T181207Z
LAST-MODIFIED:20220628T181207Z
UID:8795-1657362600-1657378800@www.pasda.org.uk
SUMMARY:Walking Group
DESCRIPTION:Our walks take place every month from March to October throughout Edinburgh and the Lothians. \nAs always plan to bring with you waterproofs\, warm clothing and sunglasses . A light lunch will be provided to all walkers at the end of the walk. \nPlease let Cath Purdie know if you are intending to join any of our planned walks  0131 475 2416 or email info@pasda.org.uk \nFor July   we will be having a walk through Lennoxlove Estate with Pasda Carer Jenny Howie. Please meet at the bus stop on the Court Street near to The Bank of Scotland.  Lunch will be at Diggorys. \nContact the info box to book.
URL:https://www.pasda.org.uk/index.php/event/walking-group-38-2/
LOCATION:Bank of Scotland Haddington\, 44 Court Street\, Haddington\, East Lothian\, EH41 3NP\, United Kingdom
CATEGORIES:Walking Group
ORGANIZER;CN="The Pasda Team":MAILTO:info@pasda.org.uk
END:VEVENT
END:VCALENDAR