BEGIN:VCALENDAR
VERSION:2.0
PRODID:-//Pasda - ECPv6.15.20//NONSGML v1.0//EN
CALSCALE:GREGORIAN
METHOD:PUBLISH
X-WR-CALNAME:Pasda
X-ORIGINAL-URL:https://www.pasda.org.uk
X-WR-CALDESC:Events for Pasda
REFRESH-INTERVAL;VALUE=DURATION:PT1H
X-Robots-Tag:noindex
X-PUBLISHED-TTL:PT1H
BEGIN:VTIMEZONE
TZID:UTC
BEGIN:STANDARD
TZOFFSETFROM:+0000
TZOFFSETTO:+0000
TZNAME:UTC
DTSTART:20220101T000000
END:STANDARD
END:VTIMEZONE
BEGIN:VEVENT
DTSTART;TZID=UTC:20230617T100000
DTEND;TZID=UTC:20230617T150000
DTSTAMP:20260423T180142
CREATED:20230524T072531Z
LAST-MODIFIED:20230612T180005Z
UID:8057-1686996000-1687014000@www.pasda.org.uk
SUMMARY:Pasda Walking Group
DESCRIPTION:This walk will take place in North Berwick (meeting point North Berwick Train Station) Jenny Howie will meet you there around 10.15am \nAs always plan to bring with you waterproofs\, warm clothing and sunglasses . A light lunch will be provided to all walkers at the end of the walk. \nPlease let Cath Purdie know if you are intending to join any of our planned walks email info@pasda.org.uk
URL:https://www.pasda.org.uk/index.php/event/pasda-walking-group-2/
LOCATION:North Berwick Station\, Station Road\, North Berwick\, EH39 4BY
CATEGORIES:Walking Group
ORGANIZER;CN="The Pasda Team":MAILTO:info@pasda.org.uk
END:VEVENT
BEGIN:VEVENT
DTSTART;TZID=UTC:20230617T100000
DTEND;TZID=UTC:20230617T150000
DTSTAMP:20260423T180142
CREATED:20230524T072531Z
LAST-MODIFIED:20230524T072531Z
UID:8838-1686996000-1687014000@www.pasda.org.uk
SUMMARY:Pasda Walking Group
DESCRIPTION:This walk will take place in North Berwick (meeting point North Berwick Train Station) Jenny Howie will meet you there around 10.15am \nAs always plan to bring with you waterproofs\, warm clothing and sunglasses . A light lunch will be provided to all walkers at the end of the walk. \nPlease let Cath Purdie know if you are intending to join any of our planned walks email info@pasda.org.uk
URL:https://www.pasda.org.uk/index.php/event/pasda-walking-group-2-2/
LOCATION:North Berwick Station\, Station Road\, North Berwick\, EH39 4BY
CATEGORIES:Walking Group
ORGANIZER;CN="The Pasda Team":MAILTO:info@pasda.org.uk
END:VEVENT
END:VCALENDAR