BEGIN:VCALENDAR
VERSION:2.0
PRODID:-//Pasda - ECPv6.15.20//NONSGML v1.0//EN
CALSCALE:GREGORIAN
METHOD:PUBLISH
X-ORIGINAL-URL:https://www.pasda.org.uk
X-WR-CALDESC:Events for Pasda
REFRESH-INTERVAL;VALUE=DURATION:PT1H
X-Robots-Tag:noindex
X-PUBLISHED-TTL:PT1H
BEGIN:VTIMEZONE
TZID:UTC
BEGIN:STANDARD
TZOFFSETFROM:+0000
TZOFFSETTO:+0000
TZNAME:UTC
DTSTART:20220101T000000
END:STANDARD
END:VTIMEZONE
BEGIN:VEVENT
DTSTART;TZID=UTC:20230906T190000
DTEND;TZID=UTC:20230906T203000
DTSTAMP:20260420T165202
CREATED:20230821T095947Z
LAST-MODIFIED:20230821T095947Z
UID:8085-1694026800-1694032200@www.pasda.org.uk
SUMMARY:Pasda West Lothian Carers Support Group
DESCRIPTION:Carers of autistic adults who reside in West Lothian are welcome join Cath Purdie for a cuppa and some conversation. \nThis month our special guest is Colin Williamson. Colin had a late diagnosis of autism at the age of 46. He will be sharing the high and low points of his life and why he is an autism advocate today. \nWe meet at Sycamore House\, Quarrywood Court\, Livingston\, EH54 6AX \nThe meeting is supported by Carers of West Lothian \nPlease email us to register your interest.
URL:https://www.pasda.org.uk/index.php/event/pasda-west-lothian-carers-support-group/
LOCATION:Carers of West Lothian\, Sycamore House\, Quarrywood Court\, Livingston\, EH54 6AX
CATEGORIES:West Lothian Carers Group
ORGANIZER;CN="The Pasda Team":MAILTO:info@pasda.org.uk
END:VEVENT
BEGIN:VEVENT
DTSTART;TZID=UTC:20230906T190000
DTEND;TZID=UTC:20230906T203000
DTSTAMP:20260420T165202
CREATED:20230821T095947Z
LAST-MODIFIED:20230821T095947Z
UID:8844-1694026800-1694032200@www.pasda.org.uk
SUMMARY:Pasda West Lothian Carers Support Group
DESCRIPTION:Carers  of autistic adults  who reside in West Lothian are welcome join Cath Purdie  for a cuppa and some conversation. \nThis month our special guest is Colin Williamson. Colin had a late diagnosis of autism at the age of 46. He will be sharing the high and low points of his life and why he is an autism advocate today. \nWe meet at Sycamore House\, Quarrywood Court\, Livingston\, EH54 6AX \nThe meeting is supported by Carers of West Lothian \nPlease email us to register your interest.
URL:https://www.pasda.org.uk/index.php/event/pasda-west-lothian-carers-support-group-6/
LOCATION:Carers of West Lothian\, Sycamore House\, Quarrywood Court\, Livingston\, EH54 6AX
CATEGORIES:West Lothian Carers Group
ORGANIZER;CN="The Pasda Team":MAILTO:info@pasda.org.uk
END:VEVENT
END:VCALENDAR