BEGIN:VCALENDAR
VERSION:2.0
PRODID:-//Pasda - ECPv6.15.20//NONSGML v1.0//EN
CALSCALE:GREGORIAN
METHOD:PUBLISH
X-WR-CALNAME:Pasda
X-ORIGINAL-URL:https://www.pasda.org.uk
X-WR-CALDESC:Events for Pasda
REFRESH-INTERVAL;VALUE=DURATION:PT1H
X-Robots-Tag:noindex
X-PUBLISHED-TTL:PT1H
BEGIN:VTIMEZONE
TZID:Europe/Paris
BEGIN:DAYLIGHT
TZOFFSETFROM:+0100
TZOFFSETTO:+0200
TZNAME:CEST
DTSTART:20150329T010000
END:DAYLIGHT
BEGIN:STANDARD
TZOFFSETFROM:+0200
TZOFFSETTO:+0100
TZNAME:CET
DTSTART:20151025T010000
END:STANDARD
BEGIN:DAYLIGHT
TZOFFSETFROM:+0100
TZOFFSETTO:+0200
TZNAME:CEST
DTSTART:20160327T010000
END:DAYLIGHT
BEGIN:STANDARD
TZOFFSETFROM:+0200
TZOFFSETTO:+0100
TZNAME:CET
DTSTART:20161030T010000
END:STANDARD
BEGIN:DAYLIGHT
TZOFFSETFROM:+0100
TZOFFSETTO:+0200
TZNAME:CEST
DTSTART:20170326T010000
END:DAYLIGHT
BEGIN:STANDARD
TZOFFSETFROM:+0200
TZOFFSETTO:+0100
TZNAME:CET
DTSTART:20171029T010000
END:STANDARD
END:VTIMEZONE
BEGIN:VEVENT
DTSTART;TZID=Europe/Paris:20161011T190000
DTEND;TZID=Europe/Paris:20161011T203000
DTSTAMP:20260425T185036
CREATED:20161007T154028Z
LAST-MODIFIED:20161007T154028Z
UID:4082-1476212400-1476217800@www.pasda.org.uk
SUMMARY:Mid Lothian Carers Group
DESCRIPTION:
URL:https://www.pasda.org.uk/index.php/event/mid-lothian-carers-group/
LOCATION:Penicuik Town Hall\, High Street\, Penicuik\, EH26 8HS\, United Kingdom
END:VEVENT
BEGIN:VEVENT
DTSTART;TZID=Europe/Paris:20161011T190000
DTEND;TZID=Europe/Paris:20161011T203000
DTSTAMP:20260425T185036
CREATED:20161007T154028Z
LAST-MODIFIED:20161007T154028Z
UID:8556-1476212400-1476217800@www.pasda.org.uk
SUMMARY:Mid Lothian Carers Group
DESCRIPTION:
URL:https://www.pasda.org.uk/index.php/event/mid-lothian-carers-group-2/
LOCATION:Penicuik Town Hall\, High Street\, Penicuik\, EH26 8HS\, United Kingdom
END:VEVENT
BEGIN:VEVENT
DTSTART;TZID=Europe/Paris:20161019T140000
DTEND;TZID=Europe/Paris:20161019T150000
DTSTAMP:20260425T185036
CREATED:20161013T103342Z
LAST-MODIFIED:20161013T103342Z
UID:8560-1476885600-1476889200@www.pasda.org.uk
SUMMARY:Pasda Singing Group
DESCRIPTION:
URL:https://www.pasda.org.uk/index.php/event/pasda-singing-group-32/
LOCATION:Morningside United Church\, Holy Corner\, Edinburgh\, EH10 4DJ\, United Kingdom
END:VEVENT
BEGIN:VEVENT
DTSTART;TZID=Europe/Paris:20161019T140000
DTEND;TZID=Europe/Paris:20161019T150000
DTSTAMP:20260425T185036
CREATED:20161013T103342Z
LAST-MODIFIED:20161013T103342Z
UID:4355-1476885600-1476889200@www.pasda.org.uk
SUMMARY:Pasda Singing Group
DESCRIPTION:
URL:https://www.pasda.org.uk/index.php/event/pasda-singing-group/
LOCATION:Morningside United Church\, Holy Corner\, Edinburgh\, EH10 4DJ\, United Kingdom
END:VEVENT
BEGIN:VEVENT
DTSTART;TZID=Europe/Paris:20161022T103000
DTEND;TZID=Europe/Paris:20161022T140000
DTSTAMP:20260425T185036
CREATED:20161004T175422Z
LAST-MODIFIED:20161004T175422Z
UID:2265-1477132200-1477144800@www.pasda.org.uk
SUMMARY:Walking Group
DESCRIPTION:Meet at 10.30am Blue Bean Coffee House\, 272 Portobello High Street\, EH15 2AT . \nWalk to to and around Figgate Park. \nWalk toto Breadshare Community Bakery\, 11-12 Seafield Road East\, Portobello\, EH15 1EB for Lunch – www.breadshare.co.uk \n  \nPlease email Cath.Purdie@pasda.org.uk to let her know if you are coming along thanks.
URL:https://www.pasda.org.uk/index.php/event/walking-group-13/
LOCATION:Figgate Park\, EH8 7SE\, United Kingdom
CATEGORIES:Walking Group
END:VEVENT
BEGIN:VEVENT
DTSTART;TZID=Europe/Paris:20161022T103000
DTEND;TZID=Europe/Paris:20161022T140000
DTSTAMP:20260425T185036
CREATED:20161004T175422Z
LAST-MODIFIED:20161004T175422Z
UID:8550-1477132200-1477144800@www.pasda.org.uk
SUMMARY:Walking Group
DESCRIPTION:Meet at 10.30am Blue Bean Coffee House\, 272 Portobello High Street\, EH15 2AT . \nWalk to to and around Figgate Park. \nWalk to  to Breadshare Community Bakery\, 11-12 Seafield Road East\, Portobello\, EH15 1EB  for Lunch – www.breadshare.co.uk \n  \nPlease email Cath.Purdie@pasda.org.uk to let her know if you are coming along thanks.
URL:https://www.pasda.org.uk/index.php/event/walking-group-13-2/
LOCATION:Figgate Park\, EH8 7SE\, United Kingdom
CATEGORIES:Walking Group
END:VEVENT
BEGIN:VEVENT
DTSTART;TZID=Europe/Paris:20161029T100000
DTEND;TZID=Europe/Paris:20161029T120000
DTSTAMP:20260425T185036
CREATED:20161010T132347Z
LAST-MODIFIED:20161010T132347Z
UID:4255-1477735200-1477742400@www.pasda.org.uk
SUMMARY:Weekend coffee morning
DESCRIPTION:
URL:https://www.pasda.org.uk/index.php/event/weekend-coffee-morning/
LOCATION:Lloyd’s No.1 Playfair\, Omni Centre\, Greenside Row\, Edinburgh\, EH1 3AA\, United Kingdom
END:VEVENT
BEGIN:VEVENT
DTSTART;TZID=Europe/Paris:20161029T100000
DTEND;TZID=Europe/Paris:20161029T120000
DTSTAMP:20260425T185036
CREATED:20161010T132347Z
LAST-MODIFIED:20161010T132347Z
UID:8559-1477735200-1477742400@www.pasda.org.uk
SUMMARY:Weekend coffee morning
DESCRIPTION:
URL:https://www.pasda.org.uk/index.php/event/weekend-coffee-morning-35/
LOCATION:Lloyd’s No.1 Playfair\, Omni Centre\, Greenside Row\, Edinburgh\, EH1 3AA\, United Kingdom
END:VEVENT
END:VCALENDAR